BEGIN:VCALENDAR
VERSION:2.0
PRODID:-//kujivinjari.com - ECPv6.15.15//NONSGML v1.0//EN
CALSCALE:GREGORIAN
METHOD:PUBLISH
X-WR-CALNAME:kujivinjari.com
X-ORIGINAL-URL:https://kujivinjari.com
X-WR-CALDESC:Events for kujivinjari.com
REFRESH-INTERVAL;VALUE=DURATION:PT1H
X-Robots-Tag:noindex
X-PUBLISHED-TTL:PT1H
BEGIN:VTIMEZONE
TZID:Europe/Moscow
BEGIN:STANDARD
TZOFFSETFROM:+0300
TZOFFSETTO:+0300
TZNAME:MSK
DTSTART:20250101T000000
END:STANDARD
END:VTIMEZONE
BEGIN:VEVENT
DTSTART;TZID=Europe/Moscow:20260307T120000
DTEND;TZID=Europe/Moscow:20260307T220000
DTSTAMP:20260423T093229
CREATED:20260107T133314Z
LAST-MODIFIED:20260107T133314Z
UID:1770-1772884800-1772920800@kujivinjari.com
SUMMARY:🌺 Mapenzi Vibandaski – 3rd Edition: A Woman’s Story
DESCRIPTION:Mapenzi Vibandaski returns for its 3rd Edition\, bringing together music\, creativity\, and culture under one powerful theme — A Woman’s Story. \nThis edition places women at the center of the creative space\, celebrating feminine expression through live music\, curated experiences\, fashion moments\, art\, and shared community energy. Set against the serene backdrop of Ngong Racecourse – Waterfront\, this is an immersive daytime-to-evening experience designed for connection\, reflection\, and vibe. \n🎶 Featured Mapenzi Sessions\n\nZaituni\nSerro\nMaya Amolo\n\nMusic is curated by Tha Movement Band\, with acoustic sessions and special experiences to be announced. \n🎫 Tickets available at: mapenzivibandaski.hustlesasa.shop
URL:https://kujivinjari.com/event/%f0%9f%8c%ba-mapenzi-vibandaski-3rd-edition-a-womans-story/
LOCATION:Waterfront Ngong racecourse
CATEGORIES:Art and culture,Events,Fashion,Food and Culture
ATTACH;FMTTYPE=image/jpeg:https://kujivinjari.com/wp-content/uploads/2026/01/Mapenzi-Vibandaski-3rd-Edition.jpg
END:VEVENT
END:VCALENDAR