BEGIN:VCALENDAR
VERSION:2.0
PRODID:-//kujivinjari.com - ECPv6.15.15//NONSGML v1.0//EN
CALSCALE:GREGORIAN
METHOD:PUBLISH
X-ORIGINAL-URL:https://kujivinjari.com
X-WR-CALDESC:Events for kujivinjari.com
REFRESH-INTERVAL;VALUE=DURATION:PT1H
X-Robots-Tag:noindex
X-PUBLISHED-TTL:PT1H
BEGIN:VTIMEZONE
TZID:Europe/Moscow
BEGIN:STANDARD
TZOFFSETFROM:+0300
TZOFFSETTO:+0300
TZNAME:MSK
DTSTART:20240101T000000
END:STANDARD
END:VTIMEZONE
BEGIN:VEVENT
DTSTART;TZID=Europe/Moscow:20251129T180000
DTEND;TZID=Europe/Moscow:20251130T000000
DTSTAMP:20260423T225748
CREATED:20251030T113439Z
LAST-MODIFIED:20251030T113439Z
UID:1397-1764439200-1764460800@kujivinjari.com
SUMMARY:UFS BXNG x SportPesa: MUSANGI vs ATTERMO
DESCRIPTION:Get ready for a night of high-octane boxing action as UFS BXNG\, powered by SportPesa\, brings you 8 thrilling bouts at The Edge Convention Centre on Saturday\, November 29th\, 2025. \nThe main event features Kenya’s own Consolata Musangi battling Sweden’s Sandra Attermo for the PST Super Bantamweight Title — a clash of champions that promises explosive energy and heart-pounding drama inside the ring. \nSupporting fights include Kenya vs Uganda face-offs and local matchups across multiple weight divisions\, featuring some of East Africa’s best boxing talents. \n🔥 Main Fights: \n\nConsolata Musangi 🇰🇪 vs Sandra Attermo 🇸🇪 – PST Super Bantamweight Title\nOkoth 🇰🇪 vs Muweezi 🇺🇬 – Welterweight Bout\n\n🥊 Undercard Fights: \n\nYazidu vs Akakunda (Super Featherweight)\nBuyu vs Hakim (Lightweight)\nBottelberge vs Pondo (Heavyweight)\nGachee vs Andabu (Middleweight)\nOduor vs Ndegwa (Super Welterweight)\nMurimi vs Otieno (Super Welterweight)\n\n🎫 Tickets: (Available exclusively at Ticketsasa) \n\nGeneral: KSh 1\,000\nRingside: KSh 3\,500\n🚫 No tickets will be sold at the gate.\n\n🎵 Enjoy live music\, delicious food\, and drinks as Nairobi’s fight night heats up in the most anticipated boxing event of the year. \n🏆 Main Sponsor: SportPesa\n🤝 Partners: Imani Flowers\, The Edge Convention Centre\n🛡 Sanctioned by: KPBC (Kenya Professional Boxing Commission) \nThis is more than boxing — it’s East Africa’s ultimate fight night experience.
URL:https://kujivinjari.com/event/ufs-bxng-x-sportpesa-musangi-vs-attermo/
LOCATION:The Edge Convention Centre\, South C\, Nairobi\, Kenya
CATEGORIES:Events,sports
ATTACH;FMTTYPE=image/jpeg:https://kujivinjari.com/wp-content/uploads/2025/10/UFS-BXING.jpg
END:VEVENT
END:VCALENDAR