BEGIN:VCALENDAR
VERSION:2.0
PRODID:-//kujivinjari.com - ECPv6.15.15//NONSGML v1.0//EN
CALSCALE:GREGORIAN
METHOD:PUBLISH
X-ORIGINAL-URL:https://kujivinjari.com
X-WR-CALDESC:Events for kujivinjari.com
REFRESH-INTERVAL;VALUE=DURATION:PT1H
X-Robots-Tag:noindex
X-PUBLISHED-TTL:PT1H
BEGIN:VTIMEZONE
TZID:Europe/Moscow
BEGIN:STANDARD
TZOFFSETFROM:+0300
TZOFFSETTO:+0300
TZNAME:MSK
DTSTART:20240101T000000
END:STANDARD
END:VTIMEZONE
BEGIN:VEVENT
DTSTART;TZID=Europe/Moscow:20251220T160000
DTEND;TZID=Europe/Moscow:20251221T040000
DTSTAMP:20260424T103443
CREATED:20251106T092908Z
LAST-MODIFIED:20251106T092908Z
UID:1457-1766246400-1766289600@kujivinjari.com
SUMMARY:Asake x Gabzy LIVE in Nairobi
DESCRIPTION:Tukutane presents Asake Live in Nairobi on December 20\, 2025. Experience a live performance by the acclaimed artist Asake. Tickets(https://www.asakekenya.com/#tickets)
URL:https://kujivinjari.com/event/asake-x-gabzy-live-in-nairobi/
LOCATION:Nairobi
CATEGORIES:Concert,Events,Nightlife
ATTACH;FMTTYPE=image/jpeg:https://kujivinjari.com/wp-content/uploads/2025/11/asake-.jpg
END:VEVENT
END:VCALENDAR