BEGIN:VCALENDAR
VERSION:2.0
PRODID:-//kujivinjari.com - ECPv6.15.15//NONSGML v1.0//EN
CALSCALE:GREGORIAN
METHOD:PUBLISH
X-ORIGINAL-URL:https://kujivinjari.com
X-WR-CALDESC:Events for kujivinjari.com
REFRESH-INTERVAL;VALUE=DURATION:PT1H
X-Robots-Tag:noindex
X-PUBLISHED-TTL:PT1H
BEGIN:VTIMEZONE
TZID:Europe/Moscow
BEGIN:STANDARD
TZOFFSETFROM:+0300
TZOFFSETTO:+0300
TZNAME:MSK
DTSTART:20250101T000000
END:STANDARD
END:VTIMEZONE
BEGIN:VEVENT
DTSTART;TZID=Europe/Moscow:20260801T160000
DTEND;TZID=Europe/Moscow:20260801T235900
DTSTAMP:20260419T192823
CREATED:20251223T214351Z
LAST-MODIFIED:20260317T073702Z
UID:1680-1785600000-1785628740@kujivinjari.com
SUMMARY:TTNT6
DESCRIPTION:Njugush Creatives Limited presents Through thick and Thin season 6.Taking place in August 2026 .The TTNT 6 stand up comedy special is seriously Comic as The 2 usual suspects explore the politics of relationships \,The impeachment of partners \,broken promises etc. Injection will also be provided for any one in need….See you then.
URL:https://kujivinjari.com/event/ttnt6/
LOCATION:SARIT CENTER\, NAIROBI\, Kenya
CATEGORIES:Art and culture,Events
ATTACH;FMTTYPE=image/avif:https://kujivinjari.com/wp-content/uploads/2025/12/TTNT_6.avif
END:VEVENT
END:VCALENDAR