BEGIN:VCALENDAR
VERSION:2.0
PRODID:-//kujivinjari.com - ECPv6.15.15//NONSGML v1.0//EN
CALSCALE:GREGORIAN
METHOD:PUBLISH
X-WR-CALNAME:kujivinjari.com
X-ORIGINAL-URL:https://kujivinjari.com
X-WR-CALDESC:Events for kujivinjari.com
REFRESH-INTERVAL;VALUE=DURATION:PT1H
X-Robots-Tag:noindex
X-PUBLISHED-TTL:PT1H
BEGIN:VTIMEZONE
TZID:Europe/Moscow
BEGIN:STANDARD
TZOFFSETFROM:+0300
TZOFFSETTO:+0300
TZNAME:MSK
DTSTART:20250101T000000
END:STANDARD
END:VTIMEZONE
BEGIN:VEVENT
DTSTART;TZID=Europe/Moscow:20260516T120000
DTEND;TZID=Europe/Moscow:20260517T000000
DTSTAMP:20260420T010440
CREATED:20260331T143537Z
LAST-MODIFIED:20260331T143537Z
UID:2123-1778932800-1778976000@kujivinjari.com
SUMMARY:Ngemi Seniors
DESCRIPTION:Step into a timeless celebration of heritage\, music\, and meaningful connection at Ngemi Homecoming Seniors\, happening on Saturday\, 16 May 2026. Designed as a refined cultural gathering\, this experience brings together mature audiences for a day rooted in nostalgia\, tradition\, and authentic African expression. \nWith the theme “Wazee Hukumbuka”\, the event promises a soulful journey through classic sounds\, rich cultural storytelling\, and an atmosphere that values community\, reflection\, and shared experiences. Guests can expect carefully curated music\, elegant interactions\, and a setting that honors both legacy and identity. \nNgemi Homecoming Seniors is more than just an event — it’s a space for reconnection\, celebration of culture\, and appreciation of the generations that shaped it. Whether attending for the music\, the conversations\, or the cultural depth\, this gathering offers a unique and elevated experience. \n🎟 Tickets:• Seniors Pass – KES 6\,000
URL:https://kujivinjari.com/event/ngemi-homecoming-seniors-2026/
CATEGORIES:Events,Festival,Food and Culture
ATTACH;FMTTYPE=image/jpeg:https://kujivinjari.com/wp-content/uploads/2026/03/ngemi-homecoming-seniors.jpg
END:VEVENT
BEGIN:VEVENT
DTSTART;TZID=Europe/Moscow:20261002T123000
DTEND;TZID=Europe/Moscow:20261004T233000
DTSTAMP:20260420T010440
CREATED:20260219T123511Z
LAST-MODIFIED:20260219T123511Z
UID:1970-1790944200-1791156600@kujivinjari.com
SUMMARY:CHAI WA 14
DESCRIPTION:A powerful celebration of heritage\, sound\, and storytelling is coming to Laikipia County as Chai wa 14 Music\, Food & Cultural Festival 2026 takes over the new Wanjēri Music Bowl & Resort in Sipili. Hosted by Wanjēri Production\, the three-day festival honours the legacy of legendary Kikuyu artist Musaimo Wa Njeri while introducing a new generation through performances by Mungai wa Njeri and a diverse line-up of artists. \nBeyond the music\, Chai wa 14 is designed as an immersive cultural journey. Expect traditional dances\, storytelling circles\, yoga sessions\, authentic Kikuyu cuisine\, workshops\, and curated vendor experiences set against the scenic backdrop of Laikipia. With VIP lounges\, camping options\, and unique accommodation experiences — including Kikuyu-inspired huts — the festival blends culture\, community\, and modern entertainment into one unforgettable weekend. \n🎶 Confirmed Artists Include: Musaimo Wa Njeri\, Mungai wa Njeri\, Mike Rua\, Tony Young\, Ikinya Rythm\, Addeh Prince\, DJ Jacy\, Maina Radasafi\, DJ Nitram\, Wanja Asali\, Banema\, John Mbugua\, DJ Joe Mfalme\, Ngari Njiru\, Cedo\, DJ Mo — with more local and international acts to be announced. \n\n🎟 Ticket Options:• Early Access Day Pass — KES 4\,000• 3-Day Early Access Pass — KES 10\,000 \n🚐 Optional transport available from Nairobi\, Nakuru\, Nanyuki\, and Eldoret.🏕 Accommodation packages include camping pods\, huts\, and bring-your-own campsite options (available to 3-day pass holders). \nCelebrate culture\, music\, and tradition in an experience designed to reconnect generations through sound and heritage.
URL:https://kujivinjari.com/event/chai-wa-14-music-food-cultural-festival-laikipia-2026/
LOCATION:Wanjēri Music Bowl & Resort\, SIPILI\, LAIKIPIA\, Kenya
CATEGORIES:Art and culture,Events,Festival,Food and Culture
ATTACH;FMTTYPE=image/jpeg:https://kujivinjari.com/wp-content/uploads/2026/02/CHAI-WA-14.jpg
END:VEVENT
END:VCALENDAR