BEGIN:VCALENDAR
VERSION:2.0
PRODID:-//kujivinjari.com - ECPv6.15.15//NONSGML v1.0//EN
CALSCALE:GREGORIAN
METHOD:PUBLISH
X-WR-CALNAME:kujivinjari.com
X-ORIGINAL-URL:https://kujivinjari.com
X-WR-CALDESC:Events for kujivinjari.com
REFRESH-INTERVAL;VALUE=DURATION:PT1H
X-Robots-Tag:noindex
X-PUBLISHED-TTL:PT1H
BEGIN:VTIMEZONE
TZID:Europe/Moscow
BEGIN:STANDARD
TZOFFSETFROM:+0300
TZOFFSETTO:+0300
TZNAME:MSK
DTSTART:20250101T000000
END:STANDARD
END:VTIMEZONE
BEGIN:VEVENT
DTSTART;TZID=Europe/Moscow:20260131T100000
DTEND;TZID=Europe/Moscow:20260131T233000
DTSTAMP:20260424T110839
CREATED:20260105T141632Z
LAST-MODIFIED:20260105T141632Z
UID:1740-1769853600-1769902200@kujivinjari.com
SUMMARY:The Millennials Festival: New Beginnings Edition
DESCRIPTION:The Millennials Festival returns with the New Beginnings Edition — a vibrant celebration of nostalgia\, creativity\, and community. Designed for the generation that grew up between analog and digital worlds\, this festival blends throwback fun with fresh energy. \nExpect a day filled with classic games that spark childhood memories\, an interactive Art Corner where creativity runs free\, and a soulful Singalong Concert bringing everyone together through music. More than just an event\, The Millennials Festival is a movement — a space to reconnect\, create\, and step boldly into new chapters together. \nWhether you’re coming for the games\, the art\, the music\, or the people\, this edition is about celebrating where we’ve been and where we’re going next. \n👉 More details\, tickets & updates available at themillenialsfestival.hustlesasa.shop
URL:https://kujivinjari.com/event/the-millennials-festival-new-beginnings-edition/
LOCATION:Kastemil junction carwash\, Seasons Road\, Nairobi\, Kenya
CATEGORIES:Events,Festival
ATTACH;FMTTYPE=image/avif:https://kujivinjari.com/wp-content/uploads/2026/01/millenials-festival.avif
END:VEVENT
END:VCALENDAR