BEGIN:VCALENDAR
VERSION:2.0
PRODID:-//kujivinjari.com - ECPv6.15.15//NONSGML v1.0//EN
CALSCALE:GREGORIAN
METHOD:PUBLISH
X-WR-CALNAME:kujivinjari.com
X-ORIGINAL-URL:https://kujivinjari.com
X-WR-CALDESC:Events for kujivinjari.com
REFRESH-INTERVAL;VALUE=DURATION:PT1H
X-Robots-Tag:noindex
X-PUBLISHED-TTL:PT1H
BEGIN:VTIMEZONE
TZID:Europe/Moscow
BEGIN:STANDARD
TZOFFSETFROM:+0300
TZOFFSETTO:+0300
TZNAME:MSK
DTSTART:20250101T000000
END:STANDARD
END:VTIMEZONE
BEGIN:VEVENT
DTSTART;TZID=Europe/Moscow:20260314T190000
DTEND;TZID=Europe/Moscow:20260314T234500
DTSTAMP:20260423T092606
CREATED:20260304T095151Z
LAST-MODIFIED:20260304T095151Z
UID:2011-1773514800-1773531900@kujivinjari.com
SUMMARY:Wacken Metal Battle Africa - Kenya
DESCRIPTION:Kenya’s heavy metal scene steps into the spotlight as Wacken Metal Battle Africa — Kenya Edition heads to Simba Saloon for an electrifying night of powerful riffs\, raw energy\, and headbanging performances. \nThe event serves as a crucial showcase where bands compete for the chance to represent Kenya at the Wacken Metal Battle Africa Finals\, set to take place in South Africa this June. Fans can expect an intense live performance from contenders Chovuke\, alongside special guests and 2025 Wacken Metal Battle Kenya finalists\, Irony Destroyed. \nWith the iconic Carnivore Simba Saloon as the battleground\, the night promises an unforgettable gathering for metal fans and live music lovers ready to support Kenya’s rising heavy metal talent. \n⚔️ Rain or shine — the battle continues.
URL:https://kujivinjari.com/event/wacken-metal-battle-africa-kenya-simba-saloon-2026/
LOCATION:Carnivore Simba Saloon\, NAIROBI\, Kenya
CATEGORIES:Events,Music
ATTACH;FMTTYPE=image/jpeg:https://kujivinjari.com/wp-content/uploads/2026/03/WACKEN-METAL-2026-scaled.jpg
END:VEVENT
BEGIN:VEVENT
DTSTART;TZID=Europe/Moscow:20260321T180000
DTEND;TZID=Europe/Moscow:20260322T040000
DTSTAMP:20260423T092606
CREATED:20260225T213824Z
LAST-MODIFIED:20260225T213824Z
UID:1996-1774116000-1774152000@kujivinjari.com
SUMMARY:Usiku wa Mwambao
DESCRIPTION:Experience the rhythm of the coast as Usiku wa Mwambao takes over Carnivore Simba Saloon for an unforgettable night celebrating culture\, music\, and heritage. This special edition honours Mzee Ngala @90\, bringing together timeless coastal sounds\, live performances\, and vibrant energy from sunset till dawn. \nWith performances by Bango Sounds Band\, Mwanzale wa Nyere\, and Konde & Brass Band\, the night promises a rich fusion of traditional and contemporary sounds designed for lovers of live music and cultural experiences. Expect an immersive atmosphere where dance\, community\, and celebration come alive under the Nairobi night sky. \nCelebrate the coast\, the culture\, and the music — because Bango bila wewe sio bango.
URL:https://kujivinjari.com/event/usiku-wa-mwambao-carnivore-simba-saloon-2026/
LOCATION:Carnivore Simba Saloon\, NAIROBI\, Kenya
CATEGORIES:Events,Nightlife
ATTACH;FMTTYPE=image/jpeg:https://kujivinjari.com/wp-content/uploads/2026/02/Usiku-wa-Mwambao.jpg
END:VEVENT
END:VCALENDAR