BEGIN:VCALENDAR
VERSION:2.0
PRODID:-//kujivinjari.com - ECPv6.15.15//NONSGML v1.0//EN
CALSCALE:GREGORIAN
METHOD:PUBLISH
X-WR-CALNAME:kujivinjari.com
X-ORIGINAL-URL:https://kujivinjari.com
X-WR-CALDESC:Events for kujivinjari.com
REFRESH-INTERVAL;VALUE=DURATION:PT1H
X-Robots-Tag:noindex
X-PUBLISHED-TTL:PT1H
BEGIN:VTIMEZONE
TZID:Europe/Moscow
BEGIN:STANDARD
TZOFFSETFROM:+0300
TZOFFSETTO:+0300
TZNAME:MSK
DTSTART:20250101T000000
END:STANDARD
END:VTIMEZONE
BEGIN:VEVENT
DTSTART;TZID=Europe/Moscow:20260214T080000
DTEND;TZID=Europe/Moscow:20260215T180000
DTSTAMP:20260423T003109
CREATED:20260202T115513Z
LAST-MODIFIED:20260202T115513Z
UID:1879-1771056000-1771178400@kujivinjari.com
SUMMARY:HSBC SVNS 2 • Nairobi (World Rugby Sevens)
DESCRIPTION:Kenya makes history as Nairobi hosts the opening leg of the HSBC SVNS 2\, the second tier of the World Rugby Sevens circuit. Taking place at Nyayo National Stadium\, this landmark tournament brings elite international rugby action to East Africa and positions Kenya at the heart of the global sevens calendar. \nAcross two adrenaline-packed days\, fans will experience fast-paced rugby\, electric atmospheres\, and national pride as teams battle to climb the global SVNS rankings. This is more than a tournament — it’s a statement moment for Kenyan rugby. \nTicket Prices\nRegular Tickets \n\nAdvance: KES 500\nGate: KES 750\n\nVIP Tickets \n\nAdvance: KES 2\,500\nGate: KES 3\,000\n\nMbogi (Group) Tickets \n\n7 Pax: KES 2\,100\n12 Pax: KES 3\,600\n\nMbogi VIP Tickets \n\n7 Pax: KES 14\,000\n12 Pax: KES 24\,000
URL:https://kujivinjari.com/event/hsbc-svns-2-nairobi-world-rugby-sevens/
LOCATION:Nyayo Stadium\, Nairobi\, Kenya
CATEGORIES:Events,sports
ATTACH;FMTTYPE=image/jpeg:https://kujivinjari.com/wp-content/uploads/2026/02/svns-2.jpg
END:VEVENT
END:VCALENDAR