BEGIN:VCALENDAR
VERSION:2.0
PRODID:-//kujivinjari.com - ECPv6.15.15//NONSGML v1.0//EN
CALSCALE:GREGORIAN
METHOD:PUBLISH
X-WR-CALNAME:kujivinjari.com
X-ORIGINAL-URL:https://kujivinjari.com
X-WR-CALDESC:Events for kujivinjari.com
REFRESH-INTERVAL;VALUE=DURATION:PT1H
X-Robots-Tag:noindex
X-PUBLISHED-TTL:PT1H
BEGIN:VTIMEZONE
TZID:Europe/Moscow
BEGIN:STANDARD
TZOFFSETFROM:+0300
TZOFFSETTO:+0300
TZNAME:MSK
DTSTART:20250101T000000
END:STANDARD
END:VTIMEZONE
BEGIN:VEVENT
DTSTART;TZID=Europe/Moscow:20260328T173000
DTEND;TZID=Europe/Moscow:20260328T235900
DTSTAMP:20260420T122700
CREATED:20260219T125041Z
LAST-MODIFIED:20260219T125041Z
UID:1977-1774719000-1774742340@kujivinjari.com
SUMMARY:2026 SHELL MOTORSPORTS EXCELLENCE AWARDS
DESCRIPTION:The Shell Motorsport Excellence Awards (MEA) 2026 returns as one of the most prestigious nights on Kenya’s motorsport calendar — a professionally staged gala dedicated to recognising the champions\, teams\, and trailblazers who shape the racing season. \nFrom rally drivers and navigators to circuit racers\, karting talents\, and off-road competitors\, MEA honours the discipline\, passion\, and performance that define Kenyan motorsport. Beyond the awards themselves\, the evening captures the stories behind the victories — the journeys\, sacrifices\, and defining moments that inspire the next generation of competitors and fans alike. \nDesigned as both a celebration and an official record of the season’s achievements\, the gala brings together the entire motorsport community for a night of recognition\, connection\, and excellence. \n🎟 Ticket Options:• Premium — KES 5\,500• Premium Tables — KES 44\,000• VIP Group of 8 — KES 120\,000 \nStep into an evening where speed meets prestige — and champions are celebrated.
URL:https://kujivinjari.com/event/shell-motorsport-excellence-awards-2026-kenya/
LOCATION:Windsor Golf Hotel & Country Club\, Nairobi\, Kenya
CATEGORIES:Events,sports
ATTACH;FMTTYPE=image/png:https://kujivinjari.com/wp-content/uploads/2026/02/2026-MEA-awards.png
END:VEVENT
END:VCALENDAR