BEGIN:VCALENDAR
VERSION:2.0
PRODID:-//kujivinjari.com - ECPv6.15.15//NONSGML v1.0//EN
CALSCALE:GREGORIAN
METHOD:PUBLISH
X-WR-CALNAME:kujivinjari.com
X-ORIGINAL-URL:https://kujivinjari.com
X-WR-CALDESC:Events for kujivinjari.com
REFRESH-INTERVAL;VALUE=DURATION:PT1H
X-Robots-Tag:noindex
X-PUBLISHED-TTL:PT1H
BEGIN:VTIMEZONE
TZID:Europe/Moscow
BEGIN:STANDARD
TZOFFSETFROM:+0300
TZOFFSETTO:+0300
TZNAME:MSK
DTSTART:20250101T000000
END:STANDARD
END:VTIMEZONE
BEGIN:VEVENT
DTSTART;TZID=Europe/Moscow:20260726T160000
DTEND;TZID=Europe/Moscow:20260726T200000
DTSTAMP:20260421T085735
CREATED:20260410T141817Z
LAST-MODIFIED:20260410T141817Z
UID:2166-1785081600-1785096000@kujivinjari.com
SUMMARY:Lust Cargo
DESCRIPTION:If you’re into deep poetry\, spoken word\, and raw storytelling that actually hits\, then Lust Cargo is one of those experiences you don’t just attend — you feel. \nHappening on Sunday\, 26 July 2026 at the Kenya National Theatre (Main Auditorium)\, this edition brings together some of the most powerful voices in the Kenyan spoken word scene. \nExpect a lineup featuring Scar Poetry\, Nyash\, Nitap\, Belvin the Poet\, and Timelines — each delivering performances that explore love\, desire\, identity\, and everything in between. \nThis isn’t your typical event. It’s intimate\, intense\, and unapologetically real. \n🎤 What to Expect:• Powerful spoken word & poetry performances• Deep\, emotional and thought-provoking storytelling• A chilled\, intimate theatre experience• A crowd that actually listens and connects \n🎟 Tickets:• Early Bird – KES 1\,000• Advance – KES 1\,200• Group of 5 – KES 4\,000
URL:https://kujivinjari.com/event/lust-cargo-nairobi-2026/
LOCATION:KENYA NATIONAL THEATRE\, Nairobi\, Kenya
CATEGORIES:Film/Movies,Music
ATTACH;FMTTYPE=image/jpeg:https://kujivinjari.com/wp-content/uploads/2026/04/lust-cargo.jpg
END:VEVENT
END:VCALENDAR