BEGIN:VCALENDAR
VERSION:2.0
PRODID:-//kujivinjari.com - ECPv6.15.15//NONSGML v1.0//EN
CALSCALE:GREGORIAN
METHOD:PUBLISH
X-WR-CALNAME:kujivinjari.com
X-ORIGINAL-URL:https://kujivinjari.com
X-WR-CALDESC:Events for kujivinjari.com
REFRESH-INTERVAL;VALUE=DURATION:PT1H
X-Robots-Tag:noindex
X-PUBLISHED-TTL:PT1H
BEGIN:VTIMEZONE
TZID:Europe/Moscow
BEGIN:STANDARD
TZOFFSETFROM:+0300
TZOFFSETTO:+0300
TZNAME:MSK
DTSTART:20250101T000000
END:STANDARD
END:VTIMEZONE
BEGIN:VEVENT
DTSTART;TZID=Europe/Moscow:20260314T120000
DTEND;TZID=Europe/Moscow:20260315T000000
DTSTAMP:20260420T221108
CREATED:20260216T091137Z
LAST-MODIFIED:20260216T091148Z
UID:1930-1773489600-1773532800@kujivinjari.com
SUMMARY:PARK n CHILL III
DESCRIPTION:PARK n CHILL III returns to Naiposha Gardens with the perfect blend of road-trip energy\, outdoor vibes\, and music-filled moments. Picture cars parked on lush lawns\, playlists loud\, drinks chilled\, and your squad reconnecting in a laid-back Tigoni setting. \nThis edition keeps things simple — nature\, good sound\, and undeniably good energy from noon till midnight. \nWhat to Expect \n\nOpen-air music experience\nScenic Tigoni countryside setting\nSquad-friendly picnic vibes\nChill social atmosphere\n\nTicket Information\n\nEarly Bird: KES 1\,000\nAdvance: KES 1\,500\n\n 
URL:https://kujivinjari.com/event/events-park-n-chill-iii-tigoni-naiposha-gardens-2026/
LOCATION:Naiposha Gardens\, NAIROBI\, Kenya
CATEGORIES:Events,Festival,Nightlife
ATTACH;FMTTYPE=image/jpeg:https://kujivinjari.com/wp-content/uploads/2026/02/PARK-n-CHILL-III.jpg
END:VEVENT
END:VCALENDAR