BEGIN:VCALENDAR
VERSION:2.0
PRODID:-//kujivinjari.com - ECPv6.15.15//NONSGML v1.0//EN
CALSCALE:GREGORIAN
METHOD:PUBLISH
X-WR-CALNAME:kujivinjari.com
X-ORIGINAL-URL:https://kujivinjari.com
X-WR-CALDESC:Events for kujivinjari.com
REFRESH-INTERVAL;VALUE=DURATION:PT1H
X-Robots-Tag:noindex
X-PUBLISHED-TTL:PT1H
BEGIN:VTIMEZONE
TZID:Europe/Moscow
BEGIN:STANDARD
TZOFFSETFROM:+0300
TZOFFSETTO:+0300
TZNAME:MSK
DTSTART:20240101T000000
END:STANDARD
END:VTIMEZONE
BEGIN:VEVENT
DTSTART;TZID=Europe/Moscow:20251031T180000
DTEND;TZID=Europe/Moscow:20251101T040000
DTSTAMP:20260423T202400
CREATED:20251029T090059Z
LAST-MODIFIED:20251029T090059Z
UID:1366-1761933600-1761969600@kujivinjari.com
SUMMARY:Spooky Soirée: Women Only – The Whine Down Kenya
DESCRIPTION:This Halloween\, it’s the ladies’ turn to take over the night. 💃🏾✨Join The Whine Down Kenya on October 31st\, 2025\, for the Spooky Soirée — a women-only Halloween celebration at Nairobi Street Kitchen that’s equal parts spooky\, sexy\, and sophisticated. \nStep into a space curated by women\, for women — where networking meets fun\, music meets magic\, and empowerment meets the dancefloor. Expect stunning costumes\, sultry beats\, and unforgettable energy all night long. \n🎧 DJ Lineup: Chipi • Shawn • Kahaviza • Kimmie • Mukobi • Mandy • Abby • Magda🎤 Live Performance by: Njerae \n🕸️ Event Details:📅 Date: Friday\, October 31st\, 2025📍 Venue: Nairobi Street Kitchen\, Westlands👗 Theme: Spooky Soirée 🎃🚫 Entry: Women Only | Strictly 18+ | No ID\, No Entry🎟 Organized by: The Whine Down Kenya \nCome ready to connect\, unwind\, and own the night — because when women come together\, magic happens. 💋✨ \n#TheWhineDown #SpookySoirée #WomenOnlyEvent #NairobiEvents #HalloweenNairobi #GirlsNightOut #WomenEmpowerment #GoodVibesOnly
URL:https://kujivinjari.com/event/spooky-soiree-women-only-the-whine-down-kenya/
LOCATION:Nairobi Street Kitchen\, NAIROBI\, Kenya
CATEGORIES:Events,Nightlife
ATTACH;FMTTYPE=image/avif:https://kujivinjari.com/wp-content/uploads/2025/10/Spooky-soiree.avif
END:VEVENT
BEGIN:VEVENT
DTSTART;TZID=Europe/Moscow:20251114T160000
DTEND;TZID=Europe/Moscow:20251114T235900
DTSTAMP:20260423T202400
CREATED:20251025T100616Z
LAST-MODIFIED:20251025T100703Z
UID:1322-1763136000-1763164740@kujivinjari.com
SUMMARY:KASHATA 2 – Blinky Bill & The Worldwide Key Cutters Live
DESCRIPTION:Get ready for a sonic explosion as Nairobi Sound System (NSS) presents KASHATA 2\, headlined by the iconic Blinky Bill and The Worldwide Key Cutters — live at Nairobi Street Kitchen. \nExpect a genre-bending night of Afro-electronic beats\, live instrumentation\, and Nairobi groove — the perfect fusion of rhythm\, innovation\, and pure energy. \nKASHATA is more than just a show — it’s a movement\, a celebration of local sound culture\, and a high-voltage jam session to close out the year in true style.📍 Venue: Nairobi Street Kitchen🎤 Artist: Blinky Bill & The Worldwide Key Cutters🎧 Organized by: Nairobi Sound System (NSS)🎟 Tickets: KES 2\,500 \nTurn the volume up — Nairobi\, this one’s going to be loud\, live\, and legendary. 🔥
URL:https://kujivinjari.com/event/kashata-2-blinky-bill-the-worldwide-key-cutters-live/
LOCATION:Nairobi Street Kitchen\, NAIROBI\, Kenya
CATEGORIES:Events,Music
ATTACH;FMTTYPE=image/jpeg:https://kujivinjari.com/wp-content/uploads/2025/10/KASHATA-BLINKY.jpg
END:VEVENT
BEGIN:VEVENT
DTSTART;TZID=Europe/Moscow:20251129T140000
DTEND;TZID=Europe/Moscow:20251129T230000
DTSTAMP:20260423T202400
CREATED:20251027T083417Z
LAST-MODIFIED:20251027T083543Z
UID:1356-1764424800-1764457200@kujivinjari.com
SUMMARY:Afro Beats Day Party – The Golden Era Returns!
DESCRIPTION:Get ready\, NAIROBI! The rhythm\, the groove\, the magic — it’s all coming back. 💃🏾🕺🏾Join Nairobi Uncut for the ultimate Afro Beats Day Party this Saturday\, November 29\, 2025\, at Nairobi Street Kitchen\, Westlands — an all-day celebration of pure African rhythm and energy. \nFrom the iconic sounds of P-Square\, 2Face\, and D’Banj\, to the modern heat of Wizkid\, Burna Boy\, and Rema\, we’re taking you through the golden eras of Afrobeats — where every beat tells a story\, and every track moves the soul. \nExpect high vibes\, amazing people\, live DJs\, dance battles\, food\, and drinks — all under the city lights at one of Nairobi’s coolest open-air venues. \n📅 Date: Saturday\, November 29\, 2025📍 Venue: Nairobi Street Kitchen\, Westlands⏰ Time: 2:00 PM – 11:00 PM🎟 Advance: KSh 2\,500 | Gate: KSh 3\,500🎧 Organized by: Nairobi Uncut \nCome ready to dance\, sing\, and celebrate the sounds that shaped a generation.This isn’t just a party — it’s a movement. 🌍💫
URL:https://kujivinjari.com/event/afro-beats-day-party-the-golden-era-returns-2/
LOCATION:Nairobi Street Kitchen\, NAIROBI\, Kenya
CATEGORIES:Events,Music
ATTACH;FMTTYPE=image/avif:https://kujivinjari.com/wp-content/uploads/2025/10/Afro-Beats.avif
END:VEVENT
END:VCALENDAR