BEGIN:VCALENDAR
VERSION:2.0
PRODID:-//kujivinjari.com - ECPv6.15.15//NONSGML v1.0//EN
CALSCALE:GREGORIAN
METHOD:PUBLISH
X-WR-CALNAME:kujivinjari.com
X-ORIGINAL-URL:https://kujivinjari.com
X-WR-CALDESC:Events for kujivinjari.com
REFRESH-INTERVAL;VALUE=DURATION:PT1H
X-Robots-Tag:noindex
X-PUBLISHED-TTL:PT1H
BEGIN:VTIMEZONE
TZID:Europe/Moscow
BEGIN:STANDARD
TZOFFSETFROM:+0300
TZOFFSETTO:+0300
TZNAME:MSK
DTSTART:20240101T000000
END:STANDARD
END:VTIMEZONE
BEGIN:VEVENT
DTSTART;TZID=Europe/Moscow:20251206T080000
DTEND;TZID=Europe/Moscow:20251206T170000
DTSTAMP:20260425T175406
CREATED:20251112T094815Z
LAST-MODIFIED:20251112T094815Z
UID:1511-1765008000-1765040400@kujivinjari.com
SUMMARY:Akili TV FLAME – The Ultimate Family Sports Challenge
DESCRIPTION:Get ready for a family showdown like no other! \nAkili TV FLAME is bringing the heat this December — a full day of fun\, fitness\, and family bonding. Parents\, kids\, and teens go head-to-head in basketball\, football\, and yoga challenges to prove who truly runs the household! 🏆 \nIt’s not just a competition — it’s an experience packed with energy\, laughter\, teamwork\, and incredible memories. Whether you’re a sports enthusiast or just looking for a wholesome family day out\, FLAME is where you want to be. \n\nEvent Highlights\n🔥 Family-friendly football\, basketball & yoga challenges🏅 Prizes\, giveaways & fitness games for all ages💪 Team-based competitions — parents vs kids & more!🎵 Music\, laughter & outdoor fun all day🎁 Powered by DTB & Akili TV \n\nTickets\n🎟 Adults: KES 500🎟 Children: KES 500(One price for all participants)
URL:https://kujivinjari.com/event/akili-tv-flame-the-ultimate-family-sports-challenge/
LOCATION:RFUEA Ground\, Nairobi\, Kenya
CATEGORIES:Events,Festival,sports
ATTACH;FMTTYPE=image/jpeg:https://kujivinjari.com/wp-content/uploads/2025/11/akili-tv-flame.jpg
END:VEVENT
BEGIN:VEVENT
DTSTART;TZID=Europe/Moscow:20251206T120000
DTEND;TZID=Europe/Moscow:20251207T040000
DTSTAMP:20260425T175406
CREATED:20251106T090254Z
LAST-MODIFIED:20251106T090254Z
UID:1449-1765022400-1765080000@kujivinjari.com
SUMMARY:INGO FIESTA 2025 — Where Home Meets Heritage
DESCRIPTION:Saturday\, December 6th\, 2025Impala Club\, Nairobi \nIngo Fiesta is back — and this year\, we’re going bigger\, louder\, and prouder.“Ingo” means home — and home is where our stories\, rhythms\, and roots live. \nThis festival brings together all Luhya communities to celebrate our shared culture:the music\, the food\, the language\, the humor\, the dances\, and the spirit that makes us who we are. \nExpect: \n\n\n🎶 Live Traditional & Contemporary Performances \n\n\n🥁 Drum Circles\, Isikuti\, Litungu\, & Folk Music Fusion \n\n\n🍲 Traditional Luhya Food Corner — from ingokho to obusuma to mrenda \n\n\n🛍 Cultural market showcasing crafts\, clothing & heritage art \n\n\n💃🏾 Dance showcases\, community games & storytelling sessions \n\n\n🌍 A warm space to reconnect\, belong\, and celebrate identity \n\n\nWhether you are Bukusu\, Maragoli\, Wanga\, Tachoni\, Idakho\, Kisa\, Tiriki\, Samia\, Banyore\, Marama — this is your homecoming.Come celebrate the culture that raised us. \nDate: Saturday\, December 6th\, 2025Venue: Impala Club\, NairobiTime: 12:00 PM till lateDress Code: Proudly Cultural / Smart Casual \nA festival of unity.A festival of belonging.A festival for home.
URL:https://kujivinjari.com/event/ingo-fiesta-2025-where-home-meets-heritage/
LOCATION:Impala Club\, Nairobi\, Kenya
CATEGORIES:Events,Festival,Nightlife
ATTACH;FMTTYPE=image/jpeg:https://kujivinjari.com/wp-content/uploads/2025/11/Ingo-fiesta.jpg
END:VEVENT
BEGIN:VEVENT
DTSTART;TZID=Europe/Moscow:20251207T130000
DTEND;TZID=Europe/Moscow:20251207T190000
DTSTAMP:20260425T175406
CREATED:20251030T075024Z
LAST-MODIFIED:20251030T075024Z
UID:1385-1765112400-1765134000@kujivinjari.com
SUMMARY:PUNGULU PARTY!
DESCRIPTION:Join us for a magical family experience at PUNGULU PARTY!\, happening on Sunday\, December 7th\, 2025\, at the Ngong Race Course. \nThis joyful celebration brings children and families together to sing\, dance\, create\, and explore — inspired by Africa’s songs\, stories\, and amazing wildlife. Through music\, storytelling\, and play\, PUNGULU PARTY! celebrates who we are and where we come from — nurturing cultural pride\, joy\, and eco-consciousness in every child. \n🌟 What to Expect:\n🎶 Live music\, storytelling & dance\n🎨 Interactive creative stations & games\n🦓 Nature & wildlife-inspired play zones\n🌍 African art\, rhythm & joyful performances\n👨‍👩‍👧 Family-friendly fun for all ages\n👶 Ages: Family (Children under 2 enter free!) \n🎟 Tickets: \n\nEarly Bird (Oct 21 – Nov 9): Kids KES 1\,000 | Adults KES 500\nAdvance (Nov 9 – Dec 6): Kids KES 1\,200 | Adults KES 700\nAt the Gate: Kids KES 1\,500 | Adults KES 1\,000\n\nCome play\, learn\, and celebrate Africa’s living heritage with us! 🌞
URL:https://kujivinjari.com/event/pungulu-party/
LOCATION:Parade Ring Ngong Racecourse\, NAIROBI\, Kenya
CATEGORIES:Events,Festival,Music
ATTACH;FMTTYPE=image/jpeg:https://kujivinjari.com/wp-content/uploads/2025/10/Pungulu-party.jpg
END:VEVENT
BEGIN:VEVENT
DTSTART;TZID=Europe/Moscow:20251207T130000
DTEND;TZID=Europe/Moscow:20251208T060000
DTSTAMP:20260425T175406
CREATED:20251112T140421Z
LAST-MODIFIED:20251112T140421Z
UID:1517-1765112400-1765173600@kujivinjari.com
SUMMARY:🎷 The Christmas Concert — By The Nairobi Jazz Orchestra
DESCRIPTION:Swing into the festive season in true jazz style! 🎄✨ \nThe Christmas Concert by The Nairobi Jazz Orchestra returns this December\, bringing the warmth of the holidays wrapped in rhythm\, brass\, and groove. Enjoy an afternoon filled with timeless Christmas classics reimagined through the power of live jazz — where big band sound meets Kenyan flair. \nWhether you’re a long-time jazz lover or simply looking for a soulful way to celebrate the holidays\, this concert promises to deliver a sonic experience full of magic\, melody\, and festive spirit. 🎶 \n\nEvent Highlights\n🎷 Live big band performance by The Nairobi Jazz Orchestra🎄 Festive jazz reinterpretations of Christmas classics🌟 Guest artists and special performances🍸 Cozy holiday ambience at Nairobi Street Kitchen💃🏽 Feel-good vibes for music lovers\, families\, and friends \n\nTickets\n🎟 1st 100 tickets: KES 1\,000🎟 Advance: KES 1\,500🎟 At the gate: KES 2\,000Tickets available via TicketYetu
URL:https://kujivinjari.com/event/%f0%9f%8e%b7-the-christmas-concert-by-the-nairobi-jazz-orchestra/
LOCATION:Nairobi Street Kitchen\, NAIROBI\, Kenya
CATEGORIES:Concert,Events
ATTACH;FMTTYPE=image/jpeg:https://kujivinjari.com/wp-content/uploads/2025/11/christmas-concert.jpg
END:VEVENT
BEGIN:VEVENT
DTSTART;TZID=Europe/Moscow:20251218T140000
DTEND;TZID=Europe/Moscow:20251220T230000
DTSTAMP:20260425T175406
CREATED:20251027T085110Z
LAST-MODIFIED:20251027T085110Z
UID:1358-1766066400-1766271600@kujivinjari.com
SUMMARY:SolFest 2025 – The Ultimate Celebration of African Music
DESCRIPTION:East Africa’s biggest music festival is back — SolFest 2025 lands in Nairobi this December 18th–20th at Uhuru Gardens! 🎶✨ \nPresented by Sauti Sol & The Sol Group\, SolFest is more than a concert — it’s a cultural movement that celebrates African rhythm\, artistry\, and excellence. \nAcross three unforgettable days\, fans will experience world-class performances\, immersive stage productions\, and electric energy as Africa’s finest artists come together to create magic. Expect a blend of live music\, DJ sets\, art installations\, fashion\, food\, and the signature Sol energy that keeps Nairobi moving. \nFounded on the values of discipline\, order\, passion\, and excellence\, SolFest has become a defining moment in East Africa’s creative calendar — bringing together fans\, creators\, and culture shapers from across the continent. \n📅 Dates: December 18–20\, 2025📍 Venue: Uhuru Gardens\, Nairobi🎟 Tickets: Available at solfest.hustlesasa.shop🎤 Organized by: HustleSasa & The Sol Group \nJoin thousands of fans for three days of music\, memories\, and movement. This is SolFest — where Africa shines. 🌍💫
URL:https://kujivinjari.com/event/solfest-2025-the-ultimate-celebration-of-african-music/
LOCATION:Uhuru Gardens\, Nairobi\, Kenya
CATEGORIES:Events,Festival
ATTACH;FMTTYPE=image/jpeg:https://kujivinjari.com/wp-content/uploads/2025/10/sol-fest.jpg
END:VEVENT
END:VCALENDAR