BEGIN:VCALENDAR
VERSION:2.0
PRODID:-//kujivinjari.com - ECPv6.15.15//NONSGML v1.0//EN
CALSCALE:GREGORIAN
METHOD:PUBLISH
X-WR-CALNAME:kujivinjari.com
X-ORIGINAL-URL:https://kujivinjari.com
X-WR-CALDESC:Events for kujivinjari.com
REFRESH-INTERVAL;VALUE=DURATION:PT1H
X-Robots-Tag:noindex
X-PUBLISHED-TTL:PT1H
BEGIN:VTIMEZONE
TZID:Europe/Moscow
BEGIN:STANDARD
TZOFFSETFROM:+0300
TZOFFSETTO:+0300
TZNAME:MSK
DTSTART:20240101T000000
END:STANDARD
END:VTIMEZONE
BEGIN:VEVENT
DTSTART;TZID=Europe/Moscow:20251024T210000
DTEND;TZID=Europe/Moscow:20251025T050000
DTSTAMP:20260425T175512
CREATED:20251001T132158Z
LAST-MODIFIED:20251001T132158Z
UID:1108-1761339600-1761368400@kujivinjari.com
SUMMARY:Konpa Night
DESCRIPTION:Get ready for a night of pure Caribbean vibes with an African twist! 🌴✨Konpa Night is back on Friday\, October 24 at Muze Club\, Kenrail Towers. From 9 PM till late\, immerse yourself in the rhythm\, energy\, and culture that will keep you moving all night long. \nExperience: \n\n\n🎶 Two electrifying dance floors with DJ Brann & DJ Ricks spinning the best Konpa\, Afro\, and Caribbean beats. \n\n\n🎤 Live animation by The Gentlemen\, bringing extra fire to the stage. \n\n\n🌍 Theme: Afro-Caribbean – come dressed to impress and ready to dance! \n\n\n🎟️ Tickets: \n\n\nEarly Bird: KES 750 \n\n\nGate: KES 1500 \n\n\nHosted by Kite’l Mache\, this is more than a party—it’s a celebration of music\, culture\, and connection. Don’t miss your chance to be part of Nairobi’s hottest Konpa experience!
URL:https://kujivinjari.com/event/konpa-night/
LOCATION:MUZE\, NAIROBI\, Kenya
CATEGORIES:Events,Nightlife
ATTACH;FMTTYPE=image/jpeg:https://kujivinjari.com/wp-content/uploads/2025/10/KONPA-NIGHT.jpg
END:VEVENT
BEGIN:VEVENT
DTSTART;TZID=Europe/Moscow:20251025T140000
DTEND;TZID=Europe/Moscow:20251026T180000
DTSTAMP:20260425T175512
CREATED:20251001T123542Z
LAST-MODIFIED:20251001T123542Z
UID:1104-1761400800-1761501600@kujivinjari.com
SUMMARY:The Next Verse
DESCRIPTION:The Next Verse”* is a powerful choral showcase that celebrates both legacy and new beginnings. Presented by Spellcast Media KE\, this concert marks a significant moment of transition\, featuring the debut of new choir members as they step into a tradition rooted in excellence\, storytelling\, and cultural pride. \nThrough a rich tapestry of harmonies\, spoken word\, and movement\, the show bridges generations—honoring the voices that have come before while ushering in the next era of song. From timeless African folk melodies to contemporary arrangements\, and not leaving behind the rich compositions from our original Musical scores *“The Next Verse”* is more than a performance; it’s a declaration: the culture lives\, the spirit endures\, and the choir sings on.
URL:https://kujivinjari.com/event/the-next-verse/
LOCATION:KENYA NATIONAL THEATRE\, Nairobi\, Kenya
CATEGORIES:Events,Film/Movies
ATTACH;FMTTYPE=image/jpeg:https://kujivinjari.com/wp-content/uploads/2025/10/the-next-verse.jpg
END:VEVENT
BEGIN:VEVENT
DTSTART;TZID=Europe/Moscow:20251025T160000
DTEND;TZID=Europe/Moscow:20251026T000000
DTSTAMP:20260425T175512
CREATED:20250930T110643Z
LAST-MODIFIED:20250930T110643Z
UID:1051-1761408000-1761436800@kujivinjari.com
SUMMARY:Halloween Carnival
DESCRIPTION:Village Market has proudly celebrated Halloween for the past 30 years\, and this year we mark our 30th Halloween celebration with an exciting theme dubbed\, ‘Village Market Halloween Carnival’ The celebration will feature a kids’ rooftop party dubbed\, Little Monsters Carnival and an adults’ food court party dubbed Adults Monsters Ball\,  both filled with carnival-inspired activities\, entertainment\, and spooky fun across the mall. This grand Halloween carnival promises a unique and unforgettable experience for families and adults alike\, bringing the community together in celebration.
URL:https://kujivinjari.com/event/halloween-carnival/
LOCATION:Village Market\, NAIROBI\, Kenya
CATEGORIES:Events,Fashion,Nightlife
ATTACH;FMTTYPE=image/jpeg:https://kujivinjari.com/wp-content/uploads/2025/09/haloween.jpg
END:VEVENT
END:VCALENDAR