BEGIN:VCALENDAR
VERSION:2.0
PRODID:-//kujivinjari.com - ECPv6.15.15//NONSGML v1.0//EN
CALSCALE:GREGORIAN
METHOD:PUBLISH
X-WR-CALNAME:kujivinjari.com
X-ORIGINAL-URL:https://kujivinjari.com
X-WR-CALDESC:Events for kujivinjari.com
REFRESH-INTERVAL;VALUE=DURATION:PT1H
X-Robots-Tag:noindex
X-PUBLISHED-TTL:PT1H
BEGIN:VTIMEZONE
TZID:Europe/Moscow
BEGIN:STANDARD
TZOFFSETFROM:+0300
TZOFFSETTO:+0300
TZNAME:MSK
DTSTART:20240101T000000
END:STANDARD
END:VTIMEZONE
BEGIN:VTIMEZONE
TZID:UTC
BEGIN:STANDARD
TZOFFSETFROM:+0000
TZOFFSETTO:+0000
TZNAME:UTC
DTSTART:20240101T000000
END:STANDARD
END:VTIMEZONE
BEGIN:VEVENT
DTSTART;TZID=Europe/Moscow:20251004T190000
DTEND;TZID=Europe/Moscow:20251015T230000
DTSTAMP:20260425T194710
CREATED:20251007T071123Z
LAST-MODIFIED:20251007T071123Z
UID:1169-1759604400-1760569200@kujivinjari.com
SUMMARY:On Becoming A Guinea Fowl
DESCRIPTION:ON BECOMING A GUINEA FOWL (2024) \nDirected by Rungano Nyoni \nOn an empty road in the middle of the night\, Shula stumbles across the body of her uncle. As the funeral unfolds\, the cousins unveil the buried secrets of their Zambian family in a vibrant reckoning with the lies we tell ourselves.
URL:https://kujivinjari.com/event/on-becoming-a-guinea-fowl/
LOCATION:Unseen Nairobi\, Nairobi\, Kenya
CATEGORIES:Art and culture,Events
ATTACH;FMTTYPE=image/jpeg:https://kujivinjari.com/wp-content/uploads/2025/10/Becoming_poster.jpg
END:VEVENT
BEGIN:VEVENT
DTSTART;TZID=Europe/Moscow:20251009T210000
DTEND;TZID=Europe/Moscow:20251010T060000
DTSTAMP:20260425T194710
CREATED:20250929T085849Z
LAST-MODIFIED:20250929T085849Z
UID:1012-1760043600-1760076000@kujivinjari.com
SUMMARY:COME WE DANCE - A Just a Band DJ Night
DESCRIPTION:Mnafanya nini 9th? \nCOME WE DANCE – A Just a Band DJ Night \nOctober 9th\, 9pm till late; Hazina Trade Center \n  \nWe’ll be closing out TICAH’s ongoing Generations and Memory exhibition by dancing until the ancestors feel it too. Come through! The next day is Mazingira Day\, so no early alarms\, just good vibes and collective healing through movement. \nOpening set by Gatthoni!
URL:https://kujivinjari.com/event/come-we-dance-a-just-a-band-dj-night/
LOCATION:Hazina Trade Centre\, NAIROBI\, Kenya
CATEGORIES:Events,Nightlife
ATTACH;FMTTYPE=image/jpeg:https://kujivinjari.com/wp-content/uploads/2025/09/CWD_Cover_Mookh.jpg
END:VEVENT
BEGIN:VEVENT
DTSTART;TZID=Europe/Moscow:20251010T090000
DTEND;TZID=Europe/Moscow:20251012T190000
DTSTAMP:20260425T194710
CREATED:20251008T074227Z
LAST-MODIFIED:20251008T074406Z
UID:1194-1760086800-1760295600@kujivinjari.com
SUMMARY:Safari 7s
DESCRIPTION:Mark Your Calendars!\nAfrica’s premier rugby 7s tournament makes its return to the capital for the 27th edition!\nHappening at Nyayo Stadium from 10th–12th October\, this year’s showdown is one you simply can’t afford to miss!\n\n\n#RoadToSafari7s
URL:https://kujivinjari.com/event/safari-7s/
LOCATION:Nyayo Stadium\, Nairobi\, Kenya
CATEGORIES:Events,sports
ATTACH;FMTTYPE=image/jpeg:https://kujivinjari.com/wp-content/uploads/2025/10/Safari-7s.jpg
END:VEVENT
BEGIN:VEVENT
DTSTART;TZID=UTC:20251010T180000
DTEND;TZID=UTC:20251010T220000
DTSTAMP:20260425T194710
CREATED:20250918T154641Z
LAST-MODIFIED:20251002T080225Z
UID:619-1760119200-1760133600@kujivinjari.com
SUMMARY:Ballpoint Afro Latin Dance Party-October Edition
DESCRIPTION:It has been a hot minute but we are BACK\, bigger\, better\, and ready to light up the dancefloor! \nAfro Latin Dance Party is here! Get into the groove with electrifying Afrobeats\, Salsa\, Kizomba\, and Bachata all night long. \nTickets going for just Ksh 1\,000 and guess what? Ksh 500 is redeemable! \nLet us dance\, vibe\, and party with the incredible Jos and the whole squad. \nBring your energy\, crew and good vibes!
URL:https://kujivinjari.com/event/afro-latin-dance-party/
LOCATION:Village Market\, NAIROBI\, Kenya
CATEGORIES:Art and culture,Events,Nightlife
ATTACH;FMTTYPE=image/jpeg:https://kujivinjari.com/wp-content/uploads/2025/09/afro-dance-10th-oct.jpg
END:VEVENT
BEGIN:VEVENT
DTSTART;TZID=Europe/Moscow:20251010T190000
DTEND;TZID=Europe/Moscow:20251011T040000
DTSTAMP:20260425T194710
CREATED:20251008T074952Z
LAST-MODIFIED:20251008T074952Z
UID:1198-1760122800-1760155200@kujivinjari.com
SUMMARY:The Neon Rave
DESCRIPTION:Nairobi’s hottest Rave is here 💜💚\n🗓️10th Oct 2025 from 🕖 7PM till late\n📍 Nairobi Street Kitchen\nCome glow\, dance & vibe all night with top DJs\, body art & crazy fun activities\n🎟️ Early Bird Ksh1000\, Advance Ksh1500\, & Group of 3 Ksh4000\n👉 Get your tickets at lightfestivalke.hustlesasa.shop.
URL:https://kujivinjari.com/event/the-neon-rave/
LOCATION:Nairobi Street Kitchen\, NAIROBI\, Kenya
CATEGORIES:Events,Festival,Nightlife
ATTACH;FMTTYPE=image/png:https://kujivinjari.com/wp-content/uploads/2025/10/neon-rave.png
END:VEVENT
END:VCALENDAR