BEGIN:VCALENDAR
VERSION:2.0
PRODID:-//kujivinjari.com - ECPv6.15.15//NONSGML v1.0//EN
CALSCALE:GREGORIAN
METHOD:PUBLISH
X-WR-CALNAME:kujivinjari.com
X-ORIGINAL-URL:https://kujivinjari.com
X-WR-CALDESC:Events for kujivinjari.com
REFRESH-INTERVAL;VALUE=DURATION:PT1H
X-Robots-Tag:noindex
X-PUBLISHED-TTL:PT1H
BEGIN:VTIMEZONE
TZID:Europe/Moscow
BEGIN:STANDARD
TZOFFSETFROM:+0300
TZOFFSETTO:+0300
TZNAME:MSK
DTSTART:20240101T000000
END:STANDARD
END:VTIMEZONE
BEGIN:VEVENT
DTSTART;TZID=Europe/Moscow:20251003T190000
DTEND;TZID=Europe/Moscow:20251005T210000
DTSTAMP:20260426T012806
CREATED:20250925T121325Z
LAST-MODIFIED:20250927T164458Z
UID:917-1759518000-1759698000@kujivinjari.com
SUMMARY:Scenes of the father
DESCRIPTION:Step into a world of Men where vulnerability is dangerous\, pride is poison\, and forgiveness\, not much thought of!\nIs Man brave enough to face the truth? Or will the past consume Men whole?\nWelcome to the Scenes of the Father\, where masculinity is stripped to the bone-raw\, flawed\, and aching for absolution.\nBound by betrayal and the ghosts of choices Men cannot outrun.\nRegret simmers beneath most men\, and Redemption isn’t promised\, but desperately pursued. \nWelcome to the powerful meditation on manhood\, memory\, and the cost of silence.
URL:https://kujivinjari.com/event/scenes-of-the-father/
LOCATION:Creatives Garage\, NAIROBI\, Kenya
CATEGORIES:Events,Film/Movies
ATTACH;FMTTYPE=image/jpeg:https://kujivinjari.com/wp-content/uploads/2025/09/Scenes_of_the_Father_poster_Mookh.jpg
END:VEVENT
BEGIN:VEVENT
DTSTART;TZID=Europe/Moscow:20251004T190000
DTEND;TZID=Europe/Moscow:20251015T230000
DTSTAMP:20260426T012806
CREATED:20251007T071123Z
LAST-MODIFIED:20251007T071123Z
UID:1169-1759604400-1760569200@kujivinjari.com
SUMMARY:On Becoming A Guinea Fowl
DESCRIPTION:ON BECOMING A GUINEA FOWL (2024) \nDirected by Rungano Nyoni \nOn an empty road in the middle of the night\, Shula stumbles across the body of her uncle. As the funeral unfolds\, the cousins unveil the buried secrets of their Zambian family in a vibrant reckoning with the lies we tell ourselves.
URL:https://kujivinjari.com/event/on-becoming-a-guinea-fowl/
LOCATION:Unseen Nairobi\, Nairobi\, Kenya
CATEGORIES:Art and culture,Events
ATTACH;FMTTYPE=image/jpeg:https://kujivinjari.com/wp-content/uploads/2025/10/Becoming_poster.jpg
END:VEVENT
END:VCALENDAR