BEGIN:VCALENDAR
VERSION:2.0
PRODID:-//kujivinjari.com - ECPv6.15.15//NONSGML v1.0//EN
CALSCALE:GREGORIAN
METHOD:PUBLISH
X-WR-CALNAME:kujivinjari.com
X-ORIGINAL-URL:https://kujivinjari.com
X-WR-CALDESC:Events for kujivinjari.com
REFRESH-INTERVAL;VALUE=DURATION:PT1H
X-Robots-Tag:noindex
X-PUBLISHED-TTL:PT1H
BEGIN:VTIMEZONE
TZID:Europe/Moscow
BEGIN:STANDARD
TZOFFSETFROM:+0300
TZOFFSETTO:+0300
TZNAME:MSK
DTSTART:20240101T000000
END:STANDARD
END:VTIMEZONE
BEGIN:VEVENT
DTSTART;TZID=Europe/Moscow:20251001T180000
DTEND;TZID=Europe/Moscow:20251002T000000
DTSTAMP:20260425T193845
CREATED:20250918T105909Z
LAST-MODIFIED:20250927T164522Z
UID:580-1759341600-1759363200@kujivinjari.com
SUMMARY:Jazz at Lincoln Center Orchestra with Wynton Marsalis
DESCRIPTION:The Bob Collymore International Jazz Festival is proud to present Grammy and Pulitzer Prize-winning trumpeter and composer Wynton Marsalis who will join the Jazz at Lincoln Center Orchestra to headline two curated events in Nairobi on 1st and 2nd October 2025. \nEvent Details \nVenue: Mitsumi Gardens\, next to Carnivore Grounds \n1st October: Dinner and Show \nTickets: Ksh12\,500 \n2nd October: Fan Show\nRegular Ticket: Ksh3\,500 (increases to Ksh4\,000 from 1st September)\nStudent Ticket: (for students between 12 years & 18 years) Ksh1\,500
URL:https://kujivinjari.com/event/jazz-at-lincoln-center-orchestra-with-wynton-marsalis/
LOCATION:Misumi Gardens\, next to Carnivore Grounds\, Kenya
CATEGORIES:Events,Festival
ATTACH;FMTTYPE=image/jpeg:https://kujivinjari.com/wp-content/uploads/2025/09/jazz-1.jpg
END:VEVENT
END:VCALENDAR