BEGIN:VCALENDAR
VERSION:2.0
PRODID:-//kujivinjari.com - ECPv6.15.15//NONSGML v1.0//EN
CALSCALE:GREGORIAN
METHOD:PUBLISH
X-WR-CALNAME:kujivinjari.com
X-ORIGINAL-URL:https://kujivinjari.com
X-WR-CALDESC:Events for kujivinjari.com
REFRESH-INTERVAL;VALUE=DURATION:PT1H
X-Robots-Tag:noindex
X-PUBLISHED-TTL:PT1H
BEGIN:VTIMEZONE
TZID:UTC
BEGIN:STANDARD
TZOFFSETFROM:+0000
TZOFFSETTO:+0000
TZNAME:UTC
DTSTART:20240101T000000
END:STANDARD
END:VTIMEZONE
BEGIN:VEVENT
DTSTART;TZID=UTC:20250928T120000
DTEND;TZID=UTC:20250929T020000
DTSTAMP:20260425T233945
CREATED:20250918T112305Z
LAST-MODIFIED:20250927T164546Z
UID:594-1759060800-1759111200@kujivinjari.com
SUMMARY:BLANKETS & WINE SEPTEMBER EDITION
DESCRIPTION:BY PURCHASING A TICKET TO BLANKETS & WINE\, YOU AGREE TO BLANKETS & WINE’s TERMS AND CONDITIONS \nhttps://blanketsandwine.com/kenya/festival-ticket-terms \n2025 is set to be the boldest\, most spectacular Blankets & Wine festival season yet in Nairobi! We kick off the year on September 28th\, 2025\, at the Laureate Gardens\, Moi International Sports Center\, Kasarani. \nPrepare for greater experiences filled with electrifying live performances\, irresistible flavors from Onja Onja\, and nonstop energy from the Onja Onja stage. \nYou already know #ItsAlwaysAGoodTime\, so secure your ticket now! Bring your family and friends\, and get ready to make lasting memories like never before. #TupataneBlankets \nKINDLY GO THROUGH THE TERMS BELOW BEFORE PURCHASING. Terms and Conditions are subject to change.
URL:https://kujivinjari.com/event/blankets-wine-september-edition/
LOCATION:Laureate Gardens Moi International sports Center\, Kasarani\, NAIROBI\, Kenya
CATEGORIES:Events,Festival
ATTACH;FMTTYPE=image/jpeg:https://kujivinjari.com/wp-content/uploads/2025/09/blankets-and-wine.jpg
END:VEVENT
END:VCALENDAR