BEGIN:VCALENDAR
VERSION:2.0
PRODID:-//kujivinjari.com - ECPv6.15.15//NONSGML v1.0//EN
CALSCALE:GREGORIAN
METHOD:PUBLISH
X-ORIGINAL-URL:https://kujivinjari.com
X-WR-CALDESC:Events for kujivinjari.com
REFRESH-INTERVAL;VALUE=DURATION:PT1H
X-Robots-Tag:noindex
X-PUBLISHED-TTL:PT1H
BEGIN:VTIMEZONE
TZID:Europe/Moscow
BEGIN:STANDARD
TZOFFSETFROM:+0300
TZOFFSETTO:+0300
TZNAME:MSK
DTSTART:20250101T000000
END:STANDARD
END:VTIMEZONE
BEGIN:VEVENT
DTSTART;TZID=Europe/Moscow:20260117T120000
DTEND;TZID=Europe/Moscow:20260117T190000
DTSTAMP:20260423T085603
CREATED:20260116T134936Z
LAST-MODIFIED:20260116T134936Z
UID:1828-1768651200-1768676400@kujivinjari.com
SUMMARY:KCB Rugby vs Kenya Harlequins – Kenya Cup Match Day 5
DESCRIPTION:It’s Match Day 5 of the 2025/26 Kenya Cup season\, and all roads lead to The Den at KCB Sports Club\, Ruaraka. \nRugby fans are in for a thrilling double-header as KCB Cubs take on Nondies II at 2:00 PM\, followed by the headline clash at 4:00 PM where KCB Rugby face Kenya Harlequins in a high-intensity Kenya Cup showdown. \nExpect fierce rivalries\, electric stadium energy\, and top-tier Kenyan rugby as the season heats up. \n🎟 Tickets available via Mookh \n\nRegular: KES 500\nParking: KES 200\n\nDon’t miss one of the biggest fixtures on the Kenya Cup calendar.
URL:https://kujivinjari.com/event/kcb-rugby-vs-kenya-harlequins-kenya-cup-match-day-5/
LOCATION:KCB SPORTS CLUB\, RUARAKA\, NAIROBI
CATEGORIES:Events,sports
ATTACH;FMTTYPE=image/jpeg:https://kujivinjari.com/wp-content/uploads/2026/01/KCB-RUGBY.jpg
END:VEVENT
BEGIN:VEVENT
DTSTART;TZID=Europe/Moscow:20260122T190000
DTEND;TZID=Europe/Moscow:20260125T190000
DTSTAMP:20260423T085603
CREATED:20251202T123831Z
LAST-MODIFIED:20251202T125019Z
UID:1612-1769108400-1769367600@kujivinjari.com
SUMMARY:Matatu Musical
DESCRIPTION:A bold stage production that tells the story of Kenya’s political journey\, woven into the vibrant\, chaotic world of matatu culture. It’s a journey through decades of corruption\, betrayal\, and resilience punctuated by rebellion\, hope\, and therelentless spirit of ordinary Kenyans.\nThe musical moves through different regimes\, exposing the alliances\, betrayals and broken promises that have defined Kenya’s leadership. But just when the passengers seem to have lost all hope\, a new force emerges the awakened generation who refuse to be passengers in a vehicle that never changes direction.
URL:https://kujivinjari.com/event/matatu-musical/
LOCATION:KENYA NATIONAL THEATRE\, Nairobi\, Kenya
CATEGORIES:Events,Music
ATTACH;FMTTYPE=image/avif:https://kujivinjari.com/wp-content/uploads/2025/12/Matatu_Musical_899.avif
END:VEVENT
BEGIN:VEVENT
DTSTART;TZID=Europe/Moscow:20260131T180000
DTEND;TZID=Europe/Moscow:20260131T220000
DTSTAMP:20260423T085603
CREATED:20260126T125317Z
LAST-MODIFIED:20260126T125317Z
UID:1863-1769882400-1769896800@kujivinjari.com
SUMMARY:Poetry Slam Africa: Grand Slam 2026
DESCRIPTION:The 2026 Grand Slam is a culmination of the 3 preliminary editions\ncomprising the 2025 slam season. The event will pit 11 contestants\ntogether to crown the 2026 Grand Slam Champion.
URL:https://kujivinjari.com/event/poetry-slam-africa-grand-slam-2026/
LOCATION:Alliance Francaise Garden\, Nairobi\, Kenya
CATEGORIES:Events,Nightlife
ATTACH;FMTTYPE=image/jpeg:https://kujivinjari.com/wp-content/uploads/2026/01/poetry.jpg
END:VEVENT
END:VCALENDAR