BEGIN:VCALENDAR
VERSION:2.0
PRODID:-//kujivinjari.com - ECPv6.15.15//NONSGML v1.0//EN
CALSCALE:GREGORIAN
METHOD:PUBLISH
X-WR-CALNAME:kujivinjari.com
X-ORIGINAL-URL:https://kujivinjari.com
X-WR-CALDESC:Events for kujivinjari.com
REFRESH-INTERVAL;VALUE=DURATION:PT1H
X-Robots-Tag:noindex
X-PUBLISHED-TTL:PT1H
BEGIN:VTIMEZONE
TZID:Europe/Moscow
BEGIN:STANDARD
TZOFFSETFROM:+0300
TZOFFSETTO:+0300
TZNAME:MSK
DTSTART:20240101T000000
END:STANDARD
END:VTIMEZONE
BEGIN:VEVENT
DTSTART;TZID=Europe/Moscow:20251031T180000
DTEND;TZID=Europe/Moscow:20251101T010000
DTSTAMP:20260426T025124
CREATED:20251001T132739Z
LAST-MODIFIED:20251001T132739Z
UID:1111-1761933600-1761958800@kujivinjari.com
SUMMARY:Behindthecurtains.ke
DESCRIPTION:Behind the Curtains is no ordinary Halloween party. Step into a world of masks\, mystery\, and midnight performances where every corner hides a secret and every shadow tells a story. Costumes encouraged\, curiosity required.
URL:https://kujivinjari.com/event/behindthecurtains-ke/
LOCATION:Hp Lounge And Restaurant\, NAIROBI\, Kenya
CATEGORIES:Events,Nightlife
ATTACH;FMTTYPE=image/jpeg:https://kujivinjari.com/wp-content/uploads/2025/10/BEHIND-THE-CURTAINS.jpg
END:VEVENT
BEGIN:VEVENT
DTSTART;TZID=Europe/Moscow:20251031T180000
DTEND;TZID=Europe/Moscow:20251101T020000
DTSTAMP:20260426T025124
CREATED:20250918T044758Z
LAST-MODIFIED:20250927T163737Z
UID:510-1761933600-1761962400@kujivinjari.com
SUMMARY:Cinema Under The Stars
DESCRIPTION:Get ready for a spooky movie night! Join us on Friday\, October 31\, 2025\, for a special screening of two horror classics under the open sky at Chogi’s Campsite\, Tigoni – Red Hill.\nHere’s what’s on the schedule:\nThe Silence of the Lambs\nThe Shining\nOnce the credits roll\, the night is just getting started. Stick around for an afterparty with live DJs and music that will keep the energy high until late. This event is strictly for those 18 and older.\nGates open at 5:45 PM.
URL:https://kujivinjari.com/event/cinema-under-the-stars/
LOCATION:Chogi’s Campsite Tigoni Redhill\, RPP3+MH\, Riara Ridge\, Nairobi\, Kenya
CATEGORIES:Events,Film/Movies
ATTACH;FMTTYPE=image/jpeg:https://kujivinjari.com/wp-content/uploads/2025/09/cinema-under-the-stars.jpg
END:VEVENT
BEGIN:VEVENT
DTSTART;TZID=Europe/Moscow:20251031T210000
DTEND;TZID=Europe/Moscow:20251101T050000
DTSTAMP:20260426T025124
CREATED:20251003T081636Z
LAST-MODIFIED:20251003T081636Z
UID:1146-1761944400-1761973200@kujivinjari.com
SUMMARY:The Haunted Circus
DESCRIPTION:On Friday October 31st\, the Haunted Circus returns to @alchemist254 👻🎪 \nFeaturing Kenya’s first full on Haunted House experience 🏚😵 \nScary halloween performances from the incredible @sarakasitrustofficial All Stars 🤸🏿‍♀️🤹🏾‍♂️ \nAnd musical madness from the maestros @afu.ke @jokisila @lady_hash @deejaykace @wearekuzo @lucky.birdi @mixmasterlenny & @deejay_sejo across 2 stages 🔥🔥 \nAre you ready for an experience unlike any other? \nTickets available at circus254.hustlesasa.shop (link in bio)\n9pm – 5am\n21+\n#Circus254
URL:https://kujivinjari.com/event/the-haunted-circus/
LOCATION:Alchemist\, NAIROBI WESTLANDS\, Kenya
CATEGORIES:Events,Nightlife
ATTACH;FMTTYPE=image/png:https://kujivinjari.com/wp-content/uploads/2025/10/haunted-circus.png
END:VEVENT
BEGIN:VEVENT
DTSTART;TZID=Europe/Moscow:20251101T160000
DTEND;TZID=Europe/Moscow:20251102T000000
DTSTAMP:20260426T025124
CREATED:20250929T091107Z
LAST-MODIFIED:20250929T091910Z
UID:1020-1762012800-1762041600@kujivinjari.com
SUMMARY:BNE ACT I: PIANO GROOVE
DESCRIPTION:The Trilogy begins. Act I: Piano Groove sets the tone with a black-and-gold night of Afropiano\, Afrohouse\, and premium culture. \nOn November 1st at Koda (Westlands\, Nairobi)\, 1\,000+ guests will gather for: \n\n\nKenya’s top selectors: Euggy\, 7 Dusks\, MGM & more \n\n\nImmersive staging & luxe VIP lounges powered by Hennessy & Moët \n\n\nExclusive “shotail” bar menus\, bottle moments\, and cinematic content \n\n\nSurprise international guests — Grammy-level talent making their Nairobi return for one unforgettable night. \n\n\nThis is the first act of a three-part trilogy. Expect intimacy\, culture\, and a dancefloor takeover — where every set is a story\, and every moment is captured. \nLimited tickets only. Once this chapter closes\, the next won’t be the same.
URL:https://kujivinjari.com/event/bne-act-i-piano-groove/
LOCATION:KODA\, Nairobi\, Kenya
CATEGORIES:Events,Nightlife
ATTACH;FMTTYPE=image/jpeg:https://kujivinjari.com/wp-content/uploads/2025/09/BALLERS-NIGHT.jpg
END:VEVENT
BEGIN:VEVENT
DTSTART;TZID=Europe/Moscow:20251123T120000
DTEND;TZID=Europe/Moscow:20251123T200000
DTSTAMP:20260426T025124
CREATED:20251007T071757Z
LAST-MODIFIED:20251007T071757Z
UID:1172-1763899200-1763928000@kujivinjari.com
SUMMARY:BBQ Pitmaster's Cookout 10th Edition
DESCRIPTION:It’s back — and it’s bigger\, juicier\, and smokier than ever! Join us for the 10th Edition of the Pitmaster’s Cookout\, a Christmas BBQ feast guaranteed to light up your festive season. \n📅 Sunday\, 23rd November 2025📍 The Arena\, ASK Show Grounds \nWhat to Expect:🍖 All-you-can-eat smoked meats — slow-cooked to perfection by the best pitmasters in town.🎄 Festive Christmas vibes — family-friendly fun and good energy all day long.👨‍👩‍👧 Family zone & kids’ play area — bring the little ones for a full day of excitement.🪑 Comfortable sitting areas — chill\, eat\, and soak in the smoky goodness.😋 Eat till you drop — we’ve got you covered with endless servings and festive cheer! \n🎟️ Tickets: \n\n\nAdults: Ksh 4\,000 \n\n\nKids (6–12): Ksh 2\,000 (5 & below FREE) \n\n\nFamily Package (2 Adults + 2 Kids): Ksh 11\,500 \n\n\n📞 RSVP: +254 724 025 158 \nLet’s make this 10th Edition the most memorable Christmas celebration yet — where great food\, laughter\, and community come together in smoky perfection! 🎅🔥🎁
URL:https://kujivinjari.com/event/bbq-pitmasters-cookout-10th-edition/
LOCATION:A.S.K\, Nairobi\, Kenya
CATEGORIES:Events,Food and Culture
ATTACH;FMTTYPE=image/jpeg:https://kujivinjari.com/wp-content/uploads/2025/10/pitmaster.jpg
END:VEVENT
BEGIN:VEVENT
DTSTART;TZID=Europe/Moscow:20251129T110000
DTEND;TZID=Europe/Moscow:20251130T000000
DTSTAMP:20260426T025124
CREATED:20250929T091727Z
LAST-MODIFIED:20250929T091727Z
UID:1022-1764414000-1764460800@kujivinjari.com
SUMMARY:SOAK AND SORE
DESCRIPTION:SOAK AND SOREA wild\, cheeky indoor  party . 200 spots only. Come\nready to sore when you’re soaked\, drenched\, dance your soul out\,\nand wake up sore (in the best way)
URL:https://kujivinjari.com/event/soak-and-sore/
LOCATION:Clarence Hotel\, Nairobi\, Kenya
CATEGORIES:Events,Nightlife
ATTACH;FMTTYPE=image/jpeg:https://kujivinjari.com/wp-content/uploads/2025/09/SOAK-AND-SORE.jpg
END:VEVENT
END:VCALENDAR