BEGIN:VCALENDAR
VERSION:2.0
PRODID:-//kujivinjari.com - ECPv6.15.15//NONSGML v1.0//EN
CALSCALE:GREGORIAN
METHOD:PUBLISH
X-WR-CALNAME:kujivinjari.com
X-ORIGINAL-URL:https://kujivinjari.com
X-WR-CALDESC:Events for kujivinjari.com
REFRESH-INTERVAL;VALUE=DURATION:PT1H
X-Robots-Tag:noindex
X-PUBLISHED-TTL:PT1H
BEGIN:VTIMEZONE
TZID:Europe/Moscow
BEGIN:STANDARD
TZOFFSETFROM:+0300
TZOFFSETTO:+0300
TZNAME:MSK
DTSTART:20250101T000000
END:STANDARD
END:VTIMEZONE
BEGIN:VEVENT
DTSTART;TZID=Europe/Moscow:20260430T160000
DTEND;TZID=Europe/Moscow:20260501T060000
DTSTAMP:20260424T080643
CREATED:20260423T072903Z
LAST-MODIFIED:20260423T073055Z
UID:2214-1777564800-1777615200@kujivinjari.com
SUMMARY:Rituals 3.0
DESCRIPTION:When a public holiday meets Nairobi nightlife\, you already know it’s about to go crazy. \nRituals 3.0 is back — and this time it’s bigger\, louder\, and built for an all-night experience at Covo NBO. \nPowered by Jägermeister x Safari Oontz x Hustlesasa\, this is one of those events where the energy doesn’t dip — it just keeps building. \n🍹 The ExperienceFrom sunset drinks to sunrise vibes\, expect:• A high-energy club atmosphere• Packed dancefloor from early evening• Smooth transitions into late-night madness \nThis is not a “pull up for a bit” event…👉 This is a stay till morning type of vibe. \n🎧 The MusicWhile lineup details are kept tight\, expect:• Deep house & Afro-house• Amapiano & club bangers• Non-stop DJ sets that keep the tempo high \nBasically: no dull moments. \n🔥 Why You Go• Public holiday = no early exits• Trusted party brands behind it• Covo NBO = guaranteed nightlife energy• Long runtime (4PM → 6AM 👀) \n🎟 Tickets:• Safari Oontz II – KES 750• Safari Oontz III – KES 1\,000
URL:https://kujivinjari.com/event/rituals-3-0-nairobi-2026/
LOCATION:Covo NBO\, Argwings Kodhek Road\, Nairobi\, Kenya
CATEGORIES:Events,Nightlife
ATTACH;FMTTYPE=image/jpeg:https://kujivinjari.com/wp-content/uploads/2026/04/Rituals.jpeg
END:VEVENT
BEGIN:VEVENT
DTSTART;TZID=Europe/Moscow:20260501T210000
DTEND;TZID=Europe/Moscow:20260502T040000
DTSTAMP:20260424T080643
CREATED:20260423T075126Z
LAST-MODIFIED:20260423T075126Z
UID:2217-1777669200-1777694400@kujivinjari.com
SUMMARY:Freestyle Friday Sessions
DESCRIPTION:If you’re about real hip hop\, not just playlists — this is your space. \nFreestyle Friday Sessions (FFS) returns for its 11th edition\, bringing Nairobi’s underground energy to The Mist (The Mall\, Westlands) for a night of bars\, cyphers\, and pure expression. \nNo filters. No scripts. Just talent. \n🎤 What It’s AboutThis is where artists come to:• Drop raw freestyles• Test new material live• Connect with a crowd that actually listens \nWhether you’re performing or just vibing\, this is one of the few places where the culture is the main event. \n🔥 The Experience• Open mic & freestyle cyphers• Curated lineup of emerging & established acts• DJs blending hip hop\, trap & urban sounds• High-energy crowd that feeds off the performance \nIt’s unpredictable — and that’s the point. \n🎧 The Vibe• Underground\, intimate setting• Authentic hip hop crowd• Pure creative energy from start to finish \nIf you know\, you know. \n🎟 Tickets:• Promo – KES 300• RSVP – KES 500
URL:https://kujivinjari.com/event/freestyle-friday-sessions-nairobi-2026/
LOCATION:The Mist\, The Mall\, Nairobi\, Kenya
CATEGORIES:Events,Nightlife
ATTACH;FMTTYPE=image/jpeg:https://kujivinjari.com/wp-content/uploads/2026/04/Freestyle-Friday-Sessions.jpg
END:VEVENT
BEGIN:VEVENT
DTSTART;TZID=Europe/Moscow:20260502T160000
DTEND;TZID=Europe/Moscow:20260503T040000
DTSTAMP:20260424T080643
CREATED:20260407T143135Z
LAST-MODIFIED:20260407T143135Z
UID:2135-1777737600-1777780800@kujivinjari.com
SUMMARY:Back & Forth Old School Party
DESCRIPTION:Turn back the clock and step into pure nostalgia — Back & Forth Old School Party is bringing the classics back to life this May. \nHappening at Carnivore Simba Saloon on 2nd May 2026\, this is the ultimate link-up for lovers of timeless hits\, good vibes\, and that unmatched old-school energy. Whether it’s the music\, the people\, or the memories\, this is where everything just feels right. \nExpect a night filled with iconic throwback anthems\, seamless DJ sets\, and a crowd that came to dance. \n🎶 On the Decks:DJ Ignyte • DJ Redbone • DJ D-Lite • DJ Mista Supafly \n🇰🇪 Dress Code: Kenya Colours – show up and represent \n🍻 What to Expect:• Video mixing on big screens• 20% off all spirit bottles• Beer bucket offers (5 for 4)• High-energy crowd & nostalgic vibes \n🚖 Tip: Early arrival recommended | Use Uber/Bolt/Taxi \n🎟 Tickets:• Early Bird – KES 1\,500 (Closed)• Advance – KES 2\,000• Gate – KES 2\,500
URL:https://kujivinjari.com/event/back-and-forth-old-school-party-2026/
LOCATION:Carnivore Simba Saloon\, NAIROBI\, Kenya
CATEGORIES:Events,Nightlife
ATTACH;FMTTYPE=image/png:https://kujivinjari.com/wp-content/uploads/2026/04/BACK-AND-FORTH.png
END:VEVENT
BEGIN:VEVENT
DTSTART;TZID=Europe/Moscow:20260509T180000
DTEND;TZID=Europe/Moscow:20260510T040000
DTSTAMP:20260424T080643
CREATED:20260421T140729Z
LAST-MODIFIED:20260421T140729Z
UID:2210-1778349600-1778385600@kujivinjari.com
SUMMARY:Ladies Love RnB
DESCRIPTION:If you’re in the mood for smooth vocals\, sing-along moments\, and pure feel-good energy — this is your night. \nLadies Love RnB is bringing a carefully curated mix of R&B classics\, modern hits\, and soulful vibes to Covo NBO\, creating a space where the music hits deep and the crowd just gets it. \nThis is not about hype — it’s about connection through music. \n🎤 The SoundExpect a seamless blend of:• Timeless R&B classics• Slow jams and sing-along anthems• New-school soulful hits \nThe kind of playlist where you know every word. \n🔥 Live Acts & DJsArtists:• Kinoti• Shad Mziki• Surprise act 👀 \nDJs:• CnG• Grauchi• Cavi \nThey’re not just playing music — they’re curating a full emotional ride. \n✨ The Vibe• Intimate\, stylish nightlife setting• A crowd that’s there for the music• Smooth transitions from chill to high-energy• Perfect for linking up\, vibing\, and letting loose \nWhether you’re coming to sing your heart out or just soak in the energy\, this one delivers. \n🎟 Tickets:• Access – KES 1\,500
URL:https://kujivinjari.com/event/ladies-love-rnb-nairobi-2026/
LOCATION:Covo NBO\, Argwings Kodhek Road\, Nairobi\, Kenya
CATEGORIES:Events,Nightlife
ATTACH;FMTTYPE=image/png:https://kujivinjari.com/wp-content/uploads/2026/04/ladies-love-rnb.png
END:VEVENT
BEGIN:VEVENT
DTSTART;TZID=Europe/Moscow:20260516T170000
DTEND;TZID=Europe/Moscow:20260516T235500
DTSTAMP:20260424T080643
CREATED:20260407T145651Z
LAST-MODIFIED:20260407T145651Z
UID:2138-1778950800-1778975700@kujivinjari.com
SUMMARY:The Discotheque
DESCRIPTION:Step into the lights\, the music\, and the magic of a true throwback — The Discotheque is bringing the golden eras back to life. \nHappening on Saturday\, 16 May 2026 at Alloy Bar & Lounge (Sarit\, Westlands)\, this special edition doubles as DJ Adrian’s birthday celebration\, promising a night filled with rhythm\, nostalgia\, and unforgettable vibes. \nFrom the smooth grooves of the 70s to the electric energy of the 80s and the iconic hits of the 90s\, this is a full musical journey curated for lovers of timeless sound. \n🎧 On the Decks:DJ Adrian • DJ Forest • DJ Ben • DJ Babs \n✨ What to Expect:• Classic throwback hits across three iconic decades• High-energy dancefloor & stylish crowd• Premium nightlife experience in Westlands• A birthday celebration like no other \n🎟 Tickets:• Set It Off – KES 2\,000 (Closed)• Rush Hour – KES 3\,000• Terminator – KES 4\,000
URL:https://kujivinjari.com/event/the-discotheque-nairobi-2026/
LOCATION:Alloy Bar and Lounge\, Nairobi\, Kenya
CATEGORIES:Events,Nightlife
ATTACH;FMTTYPE=image/jpeg:https://kujivinjari.com/wp-content/uploads/2026/04/The-Discotheque.jpg
END:VEVENT
BEGIN:VEVENT
DTSTART;TZID=Europe/Moscow:20260523T150000
DTEND;TZID=Europe/Moscow:20260524T040000
DTSTAMP:20260424T080643
CREATED:20260423T080124Z
LAST-MODIFIED:20260423T080124Z
UID:2221-1779548400-1779595200@kujivinjari.com
SUMMARY:PGLA 3.0
DESCRIPTION:Amapiano isn’t just music—it’s a whole mood. And PGLA 3.0 (Pretty Girls Love Amapiano) is where that mood comes alive. \nBack for its 2026 edition\, this experience blends Amapiano\, Afro House\, and high-energy dance culture into one curated daytime-to-night vibe at Piedmont Plaza Grounds. \n🌍 The SoundExpect a seamless journey through:• Amapiano grooves• Afro House rhythms• Deep\, soulful electronic energy \nWith a lineup built to keep you moving from sunset into late-night\, this isn’t background music—it’s the main event. \n💃🏽 The Experience• A stylish\, high-energy crowd• Dancefloor-first atmosphere• Premium setups with curated sound & visuals• A space where music\, fashion\, and culture meet \nThis is where baddies\, music lovers\, and vibe curators all show up intentionally. \n🎤 Special Feature🔥 Bellinda Chester (South Africa) bringing that authentic Amapiano energy straight from the source. \n🎟 Tickets:• Early Bird – KES 1\,500 (KES 500 redeemable at the counter)• VVIP – KES 4\,500 (Table + personalized service by B52 Bistro)
URL:https://kujivinjari.com/event/pretty-girls-love-amapiano-nairobi-2026/
LOCATION:Piedmont Plaza Grounds\, Ngong Road\, Nairobi\, Kenya
CATEGORIES:Events,Nightlife
ATTACH;FMTTYPE=image/png:https://kujivinjari.com/wp-content/uploads/2026/04/PGLA.png
END:VEVENT
BEGIN:VEVENT
DTSTART;TZID=Europe/Moscow:20260531T163000
DTEND;TZID=Europe/Moscow:20260601T000000
DTSTAMP:20260424T080643
CREATED:20260423T085353Z
LAST-MODIFIED:20260423T085353Z
UID:2225-1780245000-1780272000@kujivinjari.com
SUMMARY:AFRODELIC
DESCRIPTION:Afrobeats\, soul\, and global rhythm collide at AFRODELIC—a high-energy night curated for true music lovers and vibe chasers. \nSet at The Alchemist\, one of Nairobi’s most iconic nightlife spaces\, this experience brings together international flair and local excellence for a night that blends sound\, culture\, and pure energy. \n🌍 The Lineup✨ Chelsea Sloan (South Africa) – bringing smooth\, genre-bending sounds with international appeal✨ Azeezah Hashim (Kenya) – delivering powerful vocals and undeniable stage presence \n🎶 The SoundExpect a rich mix of:• Afrobeats & Afro-fusion• Soulful live elements• Dancefloor-ready rhythms• A crowd that actually understands the music \n🔥 The Experience• Electric atmosphere at The Alchemist• A curated crowd of music & culture lovers• Seamless transition from sunset vibes to late-night energy• Premium sound\, visuals\, and performance energy \nThis isn’t just another night out—it’s a full sensory experience built around African sound and identity. \n🎟 Tickets:• Early Bird – KES 2\,000• Pre-Sale – KES 2\,500• Door – KES 3\,000
URL:https://kujivinjari.com/event/afrodelic-nairobi-2026/
LOCATION:Alchemist\, NAIROBI WESTLANDS\, Kenya
CATEGORIES:Events,Nightlife
ATTACH;FMTTYPE=image/jpeg:https://kujivinjari.com/wp-content/uploads/2026/04/afrodelic.jpeg
END:VEVENT
END:VCALENDAR