BEGIN:VCALENDAR
VERSION:2.0
PRODID:-//kujivinjari.com - ECPv6.15.15//NONSGML v1.0//EN
CALSCALE:GREGORIAN
METHOD:PUBLISH
X-WR-CALNAME:kujivinjari.com
X-ORIGINAL-URL:https://kujivinjari.com
X-WR-CALDESC:Events for kujivinjari.com
REFRESH-INTERVAL;VALUE=DURATION:PT1H
X-Robots-Tag:noindex
X-PUBLISHED-TTL:PT1H
BEGIN:VTIMEZONE
TZID:Europe/Moscow
BEGIN:STANDARD
TZOFFSETFROM:+0300
TZOFFSETTO:+0300
TZNAME:MSK
DTSTART:20250101T000000
END:STANDARD
END:VTIMEZONE
BEGIN:VEVENT
DTSTART;TZID=Europe/Moscow:20260502T100000
DTEND;TZID=Europe/Moscow:20260502T220000
DTSTAMP:20260425T162859
CREATED:20260309T083350Z
LAST-MODIFIED:20260309T083350Z
UID:2038-1777716000-1777759200@kujivinjari.com
SUMMARY:🍔 Nairobi Street Food Festival 10th Edition
DESCRIPTION:Food lovers and culture enthusiasts are in for a treat as the Nairobi Street Food Festival returns for its 10th edition\, bringing together the city’s most exciting street food vendors\, flavors\, and culinary experiences. \nSet to take place at the ASK Arena\, Jamhuri Showground\, the festival celebrates Nairobi’s vibrant food culture\, community spirit\, and sustainability. Expect a lively atmosphere packed with diverse cuisines\, creative street food concepts\, refreshing drinks\, music\, and a buzzing crowd of food lovers. \nFrom classic Kenyan street food favourites to innovative international bites\, the festival offers a full-day experience for anyone who enjoys exploring new tastes and connecting with the city’s dynamic food scene. \n🎟 Tickets:• Early Bird — KES 500 \nPlease note that tickets grant entry to the event only and are valid for the event day. Refunds will only be issued if the event is cancelled. \nCome hungry and ready to explore some of the best street food Nairobi has to offer.
URL:https://kujivinjari.com/event/nairobi-street-food-festival-2026-ask-arena/
LOCATION:ASK Arena Jamhuri Showground\, Nairobi\, Kenya
CATEGORIES:Events,Festival
ATTACH;FMTTYPE=image/jpeg:https://kujivinjari.com/wp-content/uploads/2026/03/Nairobi-Street-Food-Festival.jpg
END:VEVENT
END:VCALENDAR