BEGIN:VCALENDAR
VERSION:2.0
PRODID:-//kujivinjari.com - ECPv6.15.15//NONSGML v1.0//EN
CALSCALE:GREGORIAN
METHOD:PUBLISH
X-WR-CALNAME:kujivinjari.com
X-ORIGINAL-URL:https://kujivinjari.com
X-WR-CALDESC:Events for kujivinjari.com
REFRESH-INTERVAL;VALUE=DURATION:PT1H
X-Robots-Tag:noindex
X-PUBLISHED-TTL:PT1H
BEGIN:VTIMEZONE
TZID:Europe/Moscow
BEGIN:STANDARD
TZOFFSETFROM:+0300
TZOFFSETTO:+0300
TZNAME:MSK
DTSTART:20250101T000000
END:STANDARD
END:VTIMEZONE
BEGIN:VEVENT
DTSTART;TZID=Europe/Moscow:20260209T080000
DTEND;TZID=Europe/Moscow:20260209T180000
DTSTAMP:20260420T212701
CREATED:20260105T125722Z
LAST-MODIFIED:20260202T130925Z
UID:1725-1770624000-1770660000@kujivinjari.com
SUMMARY:Nairobi Bar Show 2026
DESCRIPTION:The Nairobi Bar Show 2026 returns bigger\, bolder\, and more refined — bringing together Africa’s hospitality ecosystem under one roof. From bartenders and mixologists to brand builders\, hoteliers\, and cocktail lovers\, this is where the industry connects\, learns\, and evolves. \nExpect immersive brand showcases\, masterclasses\, tastings\, conversations around innovation\, and a celebration of African hospitality culture at its finest. Whether you’re behind the bar or simply love what happens on the other side of it\, this is the definitive meeting point for the continent’s drinks and hospitality community. \nThis year’s edition raises the bar — spotlighting skill\, creativity\, and collaboration while pushing the future of African hospitality forward. \n👉 Full event details\, schedule\, and tickets available at https://nbs.hustlesasa.shop/
URL:https://kujivinjari.com/event/nairobi-bar-show-2026/
LOCATION:KICC\, Nairobi\, Kenya
CATEGORIES:Events,Expo
ATTACH;FMTTYPE=image/avif:https://kujivinjari.com/wp-content/uploads/2026/01/Nairobi-Bar-Show.avif
END:VEVENT
END:VCALENDAR