BEGIN:VCALENDAR
VERSION:2.0
PRODID:-//kujivinjari.com - ECPv6.15.15//NONSGML v1.0//EN
CALSCALE:GREGORIAN
METHOD:PUBLISH
X-WR-CALNAME:kujivinjari.com
X-ORIGINAL-URL:https://kujivinjari.com
X-WR-CALDESC:Events for kujivinjari.com
REFRESH-INTERVAL;VALUE=DURATION:PT1H
X-Robots-Tag:noindex
X-PUBLISHED-TTL:PT1H
BEGIN:VTIMEZONE
TZID:Europe/Moscow
BEGIN:STANDARD
TZOFFSETFROM:+0300
TZOFFSETTO:+0300
TZNAME:MSK
DTSTART:20240101T000000
END:STANDARD
END:VTIMEZONE
BEGIN:VEVENT
DTSTART;TZID=Europe/Moscow:20251212T160000
DTEND;TZID=Europe/Moscow:20251213T040000
DTSTAMP:20260420T205032
CREATED:20251106T112823Z
LAST-MODIFIED:20251106T112823Z
UID:1464-1765555200-1765598400@kujivinjari.com
SUMMARY:Jameson Connects Kenya
DESCRIPTION:Jameson Connects Kenya returns — bigger\, bolder\, and smoother than ever.This year\, we’re bringing the movement to the iconic African Heritage House for a two-day celebration of music\, culture\, community\, and good vibes. \nExpect an unforgettable festival experience featuring live performances\, DJs\, creative takeovers\, interactive spaces\, and the unmistakable Jameson energy that connects us all. \nCome through with your crew. Make new memories. Meet new people.Because everything is better when we connect. \nTicket Options: \n\n\n1-Day Pass: KES 2\,000 \n\n\nWeekend Pass (Both Days): KES 3\,000 \n\n\nThis event is strictly 18+. Drink responsibly.Must Be A Jameson.
URL:https://kujivinjari.com/event/jameson-connects-kenya/
LOCATION:African Heritage House\, NAIROBI\, Kenya
CATEGORIES:Events,Nightlife
ATTACH;FMTTYPE=image/jpeg:https://kujivinjari.com/wp-content/uploads/2025/11/JAMESON-CONNECTS-KENYA.jpg
END:VEVENT
END:VCALENDAR