BEGIN:VCALENDAR
VERSION:2.0
PRODID:-//kujivinjari.com - ECPv6.15.15//NONSGML v1.0//EN
CALSCALE:GREGORIAN
METHOD:PUBLISH
X-WR-CALNAME:kujivinjari.com
X-ORIGINAL-URL:https://kujivinjari.com
X-WR-CALDESC:Events for kujivinjari.com
REFRESH-INTERVAL;VALUE=DURATION:PT1H
X-Robots-Tag:noindex
X-PUBLISHED-TTL:PT1H
BEGIN:VTIMEZONE
TZID:Europe/Moscow
BEGIN:STANDARD
TZOFFSETFROM:+0300
TZOFFSETTO:+0300
TZNAME:MSK
DTSTART:20250101T000000
END:STANDARD
END:VTIMEZONE
BEGIN:VEVENT
DTSTART;TZID=Europe/Moscow:20260223T150000
DTEND;TZID=Europe/Moscow:20260301T020000
DTSTAMP:20260419T174456
CREATED:20260106T145628Z
LAST-MODIFIED:20260106T145628Z
UID:1767-1771858800-1772330400@kujivinjari.com
SUMMARY:Kilele 26
DESCRIPTION:Kilele is East Africa’s first and only summit dedicated to music\, technology\, and culture — a six-day convergence of ideas\, sound\, experimentation\, and community. \nFounded to spotlight artists\, collectives\, thinkers\, and technologists working beyond the mainstream\, Kilele blends conference sessions\, workshops\, installations\, film screenings\, showcases\, and after-parties into one immersive cultural experience. \nEach February\, Nairobi becomes a meeting point for folkloric traditions\, future-facing technologies\, underground music movements\, and global collaborators\, creating a space where culture is not just discussed — it’s lived. \nWhat to Expect\n\nLive showcases from East Africa’s most adventurous and under-represented artists\nPanels\, presentations\, roundtables\, and readings on music\, tech & culture\nMusic technology workshops (including the Instrument Makers Lab)\nArt installations and mixed-media exhibitions\nFilm screenings from global subcultural allies\nResidencies\, collaborations\, and newly commissioned works\nNetworking\, community building\, and late-night after-parties\n\nWho It’s For\nArtists • Producers • Developers • Cultural workers • Students • Activists • Researchers • Collectives • Curious minds exploring the edges of culture \nTickets Available\n\nFull Delegate (Student / Santuri Alum) — KES 750\nFull Delegate (East Africa Resident) — KES 1\,500\nFull Delegate (International) — KES 6\,000\n\nmookh.com
URL:https://kujivinjari.com/event/kilele-26/
LOCATION:The Mall\, Nairobi\, Kenya
CATEGORIES:Events,Festival
ATTACH;FMTTYPE=image/jpeg:https://kujivinjari.com/wp-content/uploads/2026/01/kilele.jpg
END:VEVENT
END:VCALENDAR