BEGIN:VCALENDAR
VERSION:2.0
PRODID:-//kujivinjari.com - ECPv6.15.15//NONSGML v1.0//EN
CALSCALE:GREGORIAN
METHOD:PUBLISH
X-WR-CALNAME:kujivinjari.com
X-ORIGINAL-URL:https://kujivinjari.com
X-WR-CALDESC:Events for kujivinjari.com
REFRESH-INTERVAL;VALUE=DURATION:PT1H
X-Robots-Tag:noindex
X-PUBLISHED-TTL:PT1H
BEGIN:VTIMEZONE
TZID:Europe/Moscow
BEGIN:STANDARD
TZOFFSETFROM:+0300
TZOFFSETTO:+0300
TZNAME:MSK
DTSTART:20240101T000000
END:STANDARD
END:VTIMEZONE
BEGIN:VEVENT
DTSTART;TZID=Europe/Moscow:20251212T080000
DTEND;TZID=Europe/Moscow:20251214T000000
DTSTAMP:20260424T132345
CREATED:20251027T090519Z
LAST-MODIFIED:20251027T090610Z
UID:1362-1765526400-1765670400@kujivinjari.com
SUMMARY:MUD4FUN 5.0
DESCRIPTION:Get ready for the muddiest weekend of the year! 🌊🔥From December 12th to 14th\, 2025\, all roads lead to The Gardens\, Moi South Lake\, Naivasha for the Mud4Fun 5.0: 4×4 Challenge by the Lake — Africa’s ultimate off-road experience. \nBring your crew\, your off-road beasts\, and your sense of adventure for three epic days of high-octane fun\, scenic views\, and muddy mayhem. \n💥 What to Expect:✅ Heart-racing 4×4 Mud Challenges\, drag races & drifting✅ The vibrant Expo Village – deals\, demos & exclusive offers✅ The sizzling Barbecue Village – mouthwatering bites & grills 🍖🔥✅ The Kiddie Corner – mud pools\, slides & endless fun for families✅ Non-stop music\, entertainment & after parties through the night 🎶 \nWhether you’re rolling with friends\, family\, or your chama crew\, this is the ultimate end-year getaway — a blend of adventure\, fun\, and community impact. 🌍💚 \n🎯 Powered by Mud4Green\, every splash in the mud contributes to sustainability efforts and environmental conservation. \n📅 Dates: December 12th – 14th\, 2025📍 Venue: The Gardens\, Moi South Lake – Naivasha🎟 Tickets: Available on kiwetu.tickets.com📞 Info: 0798 311590 / 0722 395701📧 Email: operations@mudforfun.com🌐 Website: www.mudforfun.com🎥 Follow: @Mud4Fun4x4Challenge \nIt’s muddy. It’s thrilling. It’s unforgettable. 💦💪#Mud4Fun5.0 #TwendeVasha #VashaVibes #MagicalKenya #OffRoadKenya #4x4Challenge #NaivashaEvents #Mud4Green
URL:https://kujivinjari.com/event/mud4fun-5-0/
LOCATION:Moi South Lake Road\, NAIVASHA\, Kenya
CATEGORIES:Events,sports
ATTACH;FMTTYPE=image/jpeg:https://kujivinjari.com/wp-content/uploads/2025/10/mud4fun-2025-scaled.jpeg
END:VEVENT
END:VCALENDAR