BEGIN:VCALENDAR
VERSION:2.0
PRODID:-//kujivinjari.com - ECPv6.15.15//NONSGML v1.0//EN
CALSCALE:GREGORIAN
METHOD:PUBLISH
X-WR-CALNAME:kujivinjari.com
X-ORIGINAL-URL:https://kujivinjari.com
X-WR-CALDESC:Events for kujivinjari.com
REFRESH-INTERVAL;VALUE=DURATION:PT1H
X-Robots-Tag:noindex
X-PUBLISHED-TTL:PT1H
BEGIN:VTIMEZONE
TZID:Europe/Moscow
BEGIN:STANDARD
TZOFFSETFROM:+0300
TZOFFSETTO:+0300
TZNAME:MSK
DTSTART:20240101T000000
END:STANDARD
END:VTIMEZONE
BEGIN:VEVENT
DTSTART;TZID=Europe/Moscow:20251130T130000
DTEND;TZID=Europe/Moscow:20251201T000000
DTSTAMP:20260425T062031
CREATED:20251112T081222Z
LAST-MODIFIED:20251112T081222Z
UID:1507-1764507600-1764547200@kujivinjari.com
SUMMARY:The Kick Off! 7-Aside Fans League Tournament – The Ultimate EPL Watch Party
DESCRIPTION:Where fans\, stars\, and the love of football collide! \nThe Kick Off! 7-Aside Fans League Tournament brings together celebrity players\, influencers\, and die-hard football fans for an unforgettable day of sport\, music\, and pure energy. \nFrom intense 7-a-side matches to live DJ sets\, this isn’t just another football day — it’s an experience. Whether you’re here to play\, cheer\, or vibe\, expect great food\, good music\, and friendly rivalry as Arsenal and Chelsea fans go head-to-head at the Ultimate EPL Watch Party. \nCome ready for the passion\, the noise\, and the fun — because this is football culture\, Nairobi style! ⚽🔥 \n\nEvent Highlights\n\n\n⚽ 7-Aside Fans Tournament featuring influencers\, fans & surprise celebrity guests \n\n\n🎶 Live Music & DJ Sets throughout the day \n\n\n🎤 Match Screenings + EPL Watch Party (Arsenal vs Chelsea) \n\n\n🍔 Food Trucks + Chill Zone + Pop-up Merch \n\n\n🏆 Trophies\, Prizes & Bragging Rights \n\n\n\nTickets\n🎟 General Admission: KES 1\,000Available exclusively via Mookh.com
URL:https://kujivinjari.com/event/the-kick-off-7-aside-fans-league-tournament-the-ultimate-epl-watch-party/
LOCATION:Ligi Ndogo S.C.- Planets Arena\, Nairobi\, Kenya
CATEGORIES:Events,sports
ATTACH;FMTTYPE=image/jpeg:https://kujivinjari.com/wp-content/uploads/2025/11/Kick_Off.jpg
END:VEVENT
END:VCALENDAR