BEGIN:VCALENDAR
VERSION:2.0
PRODID:-//kujivinjari.com - ECPv6.15.15//NONSGML v1.0//EN
CALSCALE:GREGORIAN
METHOD:PUBLISH
X-WR-CALNAME:kujivinjari.com
X-ORIGINAL-URL:https://kujivinjari.com
X-WR-CALDESC:Events for kujivinjari.com
REFRESH-INTERVAL;VALUE=DURATION:PT1H
X-Robots-Tag:noindex
X-PUBLISHED-TTL:PT1H
BEGIN:VTIMEZONE
TZID:Europe/Moscow
BEGIN:STANDARD
TZOFFSETFROM:+0300
TZOFFSETTO:+0300
TZNAME:MSK
DTSTART:20240101T000000
END:STANDARD
END:VTIMEZONE
BEGIN:VEVENT
DTSTART;TZID=Europe/Moscow:20251206T120000
DTEND;TZID=Europe/Moscow:20251207T040000
DTSTAMP:20260425T170837
CREATED:20251106T090254Z
LAST-MODIFIED:20251106T090254Z
UID:1449-1765022400-1765080000@kujivinjari.com
SUMMARY:INGO FIESTA 2025 — Where Home Meets Heritage
DESCRIPTION:Saturday\, December 6th\, 2025Impala Club\, Nairobi \nIngo Fiesta is back — and this year\, we’re going bigger\, louder\, and prouder.“Ingo” means home — and home is where our stories\, rhythms\, and roots live. \nThis festival brings together all Luhya communities to celebrate our shared culture:the music\, the food\, the language\, the humor\, the dances\, and the spirit that makes us who we are. \nExpect: \n\n\n🎶 Live Traditional & Contemporary Performances \n\n\n🥁 Drum Circles\, Isikuti\, Litungu\, & Folk Music Fusion \n\n\n🍲 Traditional Luhya Food Corner — from ingokho to obusuma to mrenda \n\n\n🛍 Cultural market showcasing crafts\, clothing & heritage art \n\n\n💃🏾 Dance showcases\, community games & storytelling sessions \n\n\n🌍 A warm space to reconnect\, belong\, and celebrate identity \n\n\nWhether you are Bukusu\, Maragoli\, Wanga\, Tachoni\, Idakho\, Kisa\, Tiriki\, Samia\, Banyore\, Marama — this is your homecoming.Come celebrate the culture that raised us. \nDate: Saturday\, December 6th\, 2025Venue: Impala Club\, NairobiTime: 12:00 PM till lateDress Code: Proudly Cultural / Smart Casual \nA festival of unity.A festival of belonging.A festival for home.
URL:https://kujivinjari.com/event/ingo-fiesta-2025-where-home-meets-heritage/
LOCATION:Impala Club\, Nairobi\, Kenya
CATEGORIES:Events,Festival,Nightlife
ATTACH;FMTTYPE=image/jpeg:https://kujivinjari.com/wp-content/uploads/2025/11/Ingo-fiesta.jpg
END:VEVENT
END:VCALENDAR