BEGIN:VCALENDAR
VERSION:2.0
PRODID:-//kujivinjari.com - ECPv6.15.15//NONSGML v1.0//EN
CALSCALE:GREGORIAN
METHOD:PUBLISH
X-WR-CALNAME:kujivinjari.com
X-ORIGINAL-URL:https://kujivinjari.com
X-WR-CALDESC:Events for kujivinjari.com
REFRESH-INTERVAL;VALUE=DURATION:PT1H
X-Robots-Tag:noindex
X-PUBLISHED-TTL:PT1H
BEGIN:VTIMEZONE
TZID:Europe/Moscow
BEGIN:STANDARD
TZOFFSETFROM:+0300
TZOFFSETTO:+0300
TZNAME:MSK
DTSTART:20250101T000000
END:STANDARD
END:VTIMEZONE
BEGIN:VEVENT
DTSTART;TZID=Europe/Moscow:20260306T180000
DTEND;TZID=Europe/Moscow:20260307T060000
DTSTAMP:20260421T110518
CREATED:20260219T124236Z
LAST-MODIFIED:20260219T124236Z
UID:1974-1772820000-1772863200@kujivinjari.com
SUMMARY:🎤 Big Pin @23
DESCRIPTION:Kenyan music icon Big Pin marks a major milestone with Big Pin @23 — The Songs & The Stories\, a landmark celebration honouring over two decades of music\, culture\, and influence. Set to take place at Mass House Nairobi\, the event promises an evening filled with live performances\, storytelling\, and nostalgic moments that reflect the journey of one of Kenya’s most recognisable voices. \nFans can expect a powerful mix of music and memories as Big Pin takes audiences through the sounds and stories that shaped his legacy — from classic hits to the evolution of Kenyan urban culture. Whether you’ve followed his career from the early days or discovered his music recently\, this is set to be a special night for lovers of Kenyan sound and storytelling. \n🎟 Ticket Options:• Early Bird — KES 1\,523• Advance for 2 — KES 2\,323• VIP — KES 4\,023 \nCelebrate the music\, the stories\, and the legacy — live on stage.
URL:https://kujivinjari.com/event/big-pin-23-mass-house-nairobi-2026/
LOCATION:Masshouse\, Ngong Road\, NAIROBI\, Kenya
CATEGORIES:Events,Nightlife
ATTACH;FMTTYPE=image/jpeg:https://kujivinjari.com/wp-content/uploads/2026/02/big-pin-23.jpg
END:VEVENT
END:VCALENDAR