BEGIN:VCALENDAR
VERSION:2.0
PRODID:-//kujivinjari.com - ECPv6.15.15//NONSGML v1.0//EN
CALSCALE:GREGORIAN
METHOD:PUBLISH
X-WR-CALNAME:kujivinjari.com
X-ORIGINAL-URL:https://kujivinjari.com
X-WR-CALDESC:Events for kujivinjari.com
REFRESH-INTERVAL;VALUE=DURATION:PT1H
X-Robots-Tag:noindex
X-PUBLISHED-TTL:PT1H
BEGIN:VTIMEZONE
TZID:Europe/Moscow
BEGIN:STANDARD
TZOFFSETFROM:+0300
TZOFFSETTO:+0300
TZNAME:MSK
DTSTART:20240101T000000
END:STANDARD
END:VTIMEZONE
BEGIN:VEVENT
DTSTART;TZID=Europe/Moscow:20251025T160000
DTEND;TZID=Europe/Moscow:20251026T000000
DTSTAMP:20260424T212946
CREATED:20250930T110643Z
LAST-MODIFIED:20250930T110643Z
UID:1051-1761408000-1761436800@kujivinjari.com
SUMMARY:Halloween Carnival
DESCRIPTION:Village Market has proudly celebrated Halloween for the past 30 years\, and this year we mark our 30th Halloween celebration with an exciting theme dubbed\, ‘Village Market Halloween Carnival’ The celebration will feature a kids’ rooftop party dubbed\, Little Monsters Carnival and an adults’ food court party dubbed Adults Monsters Ball\,  both filled with carnival-inspired activities\, entertainment\, and spooky fun across the mall. This grand Halloween carnival promises a unique and unforgettable experience for families and adults alike\, bringing the community together in celebration.
URL:https://kujivinjari.com/event/halloween-carnival/
LOCATION:Village Market\, NAIROBI\, Kenya
CATEGORIES:Events,Fashion,Nightlife
ATTACH;FMTTYPE=image/jpeg:https://kujivinjari.com/wp-content/uploads/2025/09/haloween.jpg
END:VEVENT
END:VCALENDAR