BEGIN:VCALENDAR
VERSION:2.0
PRODID:-//kujivinjari.com - ECPv6.15.15//NONSGML v1.0//EN
CALSCALE:GREGORIAN
METHOD:PUBLISH
X-WR-CALNAME:kujivinjari.com
X-ORIGINAL-URL:https://kujivinjari.com
X-WR-CALDESC:Events for kujivinjari.com
REFRESH-INTERVAL;VALUE=DURATION:PT1H
X-Robots-Tag:noindex
X-PUBLISHED-TTL:PT1H
BEGIN:VTIMEZONE
TZID:Europe/Moscow
BEGIN:STANDARD
TZOFFSETFROM:+0300
TZOFFSETTO:+0300
TZNAME:MSK
DTSTART:20250101T000000
END:STANDARD
END:VTIMEZONE
BEGIN:VEVENT
DTSTART;TZID=Europe/Moscow:20260114T100000
DTEND;TZID=Europe/Moscow:20260115T180000
DTSTAMP:20260425T070426
CREATED:20260113T135724Z
LAST-MODIFIED:20260113T135724Z
UID:1814-1768384800-1768500000@kujivinjari.com
SUMMARY:A Sweet & Spicy Affair
DESCRIPTION:Step into a world where sweetness meets spice at A Sweet & Spicy Affair\, a vibrant two-day food and culture experience at Village Market. \nFrom fragrant spices and artisanal treats to indulgent desserts and bold flavours\, this curated affair brings together passionate vendors\, interactive tastings\, and handcrafted delights designed to awaken every sense. Expect live entertainment\, rich aromas\, and a warm festive atmosphere that invites you to explore\, taste\, and connect. \nWhether you’re a foodie\, a culture lover\, or simply curious\, this is your chance to experience flavour beyond the plate. \nDon’t just taste it — experience it. \n📞 Enquiries:020-712 2488 / 020-712 2490📧 Email: admin@villagemarket-kenya.com
URL:https://kujivinjari.com/event/a-sweet-spicy-affair/
LOCATION:Village Market\, NAIROBI\, Kenya
CATEGORIES:Events,Food and Culture
ATTACH;FMTTYPE=image/webp:https://kujivinjari.com/wp-content/uploads/2026/01/sweet-and-spicy-affair.webp
END:VEVENT
END:VCALENDAR