BEGIN:VCALENDAR
VERSION:2.0
PRODID:-//kujivinjari.com - ECPv6.15.15//NONSGML v1.0//EN
CALSCALE:GREGORIAN
METHOD:PUBLISH
X-WR-CALNAME:kujivinjari.com
X-ORIGINAL-URL:https://kujivinjari.com
X-WR-CALDESC:Events for kujivinjari.com
REFRESH-INTERVAL;VALUE=DURATION:PT1H
X-Robots-Tag:noindex
X-PUBLISHED-TTL:PT1H
BEGIN:VTIMEZONE
TZID:Europe/Moscow
BEGIN:STANDARD
TZOFFSETFROM:+0300
TZOFFSETTO:+0300
TZNAME:MSK
DTSTART:20240101T000000
END:STANDARD
END:VTIMEZONE
BEGIN:VEVENT
DTSTART;TZID=Europe/Moscow:20251206T180000
DTEND;TZID=Europe/Moscow:20251206T235900
DTSTAMP:20260426T055736
CREATED:20251107T141833Z
LAST-MODIFIED:20251107T141833Z
UID:1471-1765044000-1765065540@kujivinjari.com
SUMMARY:F1 FAN CHAMPIONSHIP — Nairobi Edition
DESCRIPTION:Saturday\, 6 December 2025 | 6:00 PM – LateVillage Market\, NairobiTickets: KES 3\,000 on Ticketsasa.com \nStart your engines — the F1 Fan Championship is back\, and this time\, the stakes are higher than ever. \nThis isn’t just trivia. It’s a full Formula 1 race weekend reimagined as a competitive fan challenge\, where speed meets strategy\, memory meets mastery\, and every point counts. \nRepresent your team — Ferrari\, Mercedes\, McLaren\, Red Bull\, Alpine — and battle for brains\, boost\, and bragging rights. \nHow It Works\nEach round mirrors a race weekend: \n\n\nFree Practice: Warm-up questions & team strategy \n\n\nQualifying: Quick-fire eliminations to secure grid position \n\n\nRace Session: Deep technical\, historical\, and tactical F1 knowledge \n\n\nBonus DRS & Stewards Calls: Clutch moments that can change everything \n\n\nExpect:\n🏎️ Live race highlights & commentary🍻 Food & drinks on-site🔥 Team chants\, rivalries & high-energy atmosphere🏆 Trophy for the winning fanbase \nWhether you’re the “I know lap times from 2012” fan\, the “my loyalty is emotional not logical” fan\, or the “Drive to Survive made me dangerous” fan — this night is yours. \nChoose your team. Assemble your crew. Compete for the crown.
URL:https://kujivinjari.com/event/f1-fan-championship-nairobi-edition/
LOCATION:Village Market\, NAIROBI\, Kenya
CATEGORIES:Events,sports
ATTACH;FMTTYPE=image/jpeg:https://kujivinjari.com/wp-content/uploads/2025/11/F1-fan-championship.jpg
END:VEVENT
END:VCALENDAR