BEGIN:VCALENDAR
VERSION:2.0
PRODID:-//kujivinjari.com - ECPv6.15.15//NONSGML v1.0//EN
CALSCALE:GREGORIAN
METHOD:PUBLISH
X-WR-CALNAME:kujivinjari.com
X-ORIGINAL-URL:https://kujivinjari.com
X-WR-CALDESC:Events for kujivinjari.com
REFRESH-INTERVAL;VALUE=DURATION:PT1H
X-Robots-Tag:noindex
X-PUBLISHED-TTL:PT1H
BEGIN:VTIMEZONE
TZID:Europe/Moscow
BEGIN:STANDARD
TZOFFSETFROM:+0300
TZOFFSETTO:+0300
TZNAME:MSK
DTSTART:20250101T000000
END:STANDARD
END:VTIMEZONE
BEGIN:VEVENT
DTSTART;TZID=Europe/Moscow:20260221T070000
DTEND;TZID=Europe/Moscow:20260222T180000
DTSTAMP:20260424T225330
CREATED:20260205T132128Z
LAST-MODIFIED:20260205T132128Z
UID:1897-1771657200-1771783200@kujivinjari.com
SUMMARY:Time Attack-DMSC ROUND 1
DESCRIPTION:Every season has a first battle — and this one is all about speed\, precision\, and pure motorsport adrenaline. \nTime Attack – DMSC Round 1 launches the 2026 Delta Motor Sport Championship with Kenya’s fastest drivers pushing their machines to the limit in a race against the clock. Expect screaming engines\, razor-thin lap times\, and elite driving skill as competitors fight for the fastest time of the day. \nThis is motorsport in its rawest form — no wheel-to-wheel racing\, just driver\, machine\, and stopwatch. \nTicket Information\n\nEarly Bird: KES 500 (Closed)\nAdvance: KES 750 (Closes Sat\, 21 Feb 2026 @ 12:00 AM)\nGate: KES 1\,000 (Available from 12:01 AM on event day)
URL:https://kujivinjari.com/event/time-attack-dmsc-round-1-2026/
LOCATION:Whistling Morans\, Nairobi\, Kenya
CATEGORIES:Events,sports
ATTACH;FMTTYPE=image/jpeg:https://kujivinjari.com/wp-content/uploads/2026/02/Time-Attack-DMSC-ROUND-1.jpg
END:VEVENT
END:VCALENDAR