BEGIN:VCALENDAR
VERSION:2.0
PRODID:-//kujivinjari.com - ECPv6.15.15//NONSGML v1.0//EN
CALSCALE:GREGORIAN
METHOD:PUBLISH
X-WR-CALNAME:kujivinjari.com
X-ORIGINAL-URL:https://kujivinjari.com
X-WR-CALDESC:Events for kujivinjari.com
REFRESH-INTERVAL;VALUE=DURATION:PT1H
X-Robots-Tag:noindex
X-PUBLISHED-TTL:PT1H
BEGIN:VTIMEZONE
TZID:Europe/Moscow
BEGIN:STANDARD
TZOFFSETFROM:+0300
TZOFFSETTO:+0300
TZNAME:MSK
DTSTART:20240101T000000
END:STANDARD
END:VTIMEZONE
BEGIN:VEVENT
DTSTART;TZID=Europe/Moscow:20251128T190000
DTEND;TZID=Europe/Moscow:20251129T040000
DTSTAMP:20260426T014051
CREATED:20251118T065222Z
LAST-MODIFIED:20251118T065253Z
UID:1532-1764356400-1764388800@kujivinjari.com
SUMMARY:DJ AG – Black Friday Block Party (Masshouse Live)
DESCRIPTION:The heat is officially ON this Black Friday! Masshouse Live is hosting one of the biggest parties of the year as global sensation DJ AG lands in Africa for the very first time. To mark the moment\, Arrival Africa is bringing out the heaviest DJ lineup in Kenya\, turning Ngong Road into the ultimate nightlife zone. \nExpect nothing but pure energy\, insane mixes\, and a crowd that came to shut down the night.This is not your regular Friday — it’s a Black Friday takeover. \nFeaturing Kenya’s Hottest DJs\n🔥 DJ AG Online (international headliner)🔥 DJ Joe Mfalme🔥 DJ Grauchi🔥 G-Money \nA powerhouse squad — four giants\, one stage\, one massive night. \nWhat to Expect\n\n\nBlack Friday party vibes \n\n\nHigh-energy DJ sets all night \n\n\nHeavy bass + crowd-favorite mixes \n\n\nExclusive drink deals \n\n\nFREE shot for the first 50 people \n\n\nStrictly ALL BLACK dress code \n\n\nOutdoor block-party atmosphere \n\n\nTicket Information\n🎟️ Die Hard Ticket: KES 1\,000(Tickets available at events.tokea.com) \nWhy You Should Go\nThis is the ONLY Black Friday party with a superstar debut\, a star-packed lineup\, and a massive street-style set-up that Nairobi rarely gets.If you love good DJs\, good crowds\, and good chaos — this is your night.
URL:https://kujivinjari.com/event/dj-ag-black-friday-block-party-masshouse-live/
LOCATION:Masshouse\, Ngong Road\, NAIROBI\, Kenya
CATEGORIES:Events,Nightlife
ATTACH;FMTTYPE=image/jpeg:https://kujivinjari.com/wp-content/uploads/2025/11/block-party.jpg
END:VEVENT
END:VCALENDAR