BEGIN:VCALENDAR
VERSION:2.0
PRODID:-//kujivinjari.com - ECPv6.15.15//NONSGML v1.0//EN
CALSCALE:GREGORIAN
METHOD:PUBLISH
X-WR-CALNAME:kujivinjari.com
X-ORIGINAL-URL:https://kujivinjari.com
X-WR-CALDESC:Events for kujivinjari.com
REFRESH-INTERVAL;VALUE=DURATION:PT1H
X-Robots-Tag:noindex
X-PUBLISHED-TTL:PT1H
BEGIN:VTIMEZONE
TZID:Europe/Moscow
BEGIN:STANDARD
TZOFFSETFROM:+0300
TZOFFSETTO:+0300
TZNAME:MSK
DTSTART:20240101T000000
END:STANDARD
END:VTIMEZONE
BEGIN:VEVENT
DTSTART;TZID=Europe/Moscow:20251206T120000
DTEND;TZID=Europe/Moscow:20251206T235900
DTSTAMP:20260421T093021
CREATED:20251008T073421Z
LAST-MODIFIED:20251008T073421Z
UID:1190-1765022400-1765065540@kujivinjari.com
SUMMARY:Color Splash Afrika
DESCRIPTION:🌊🌴 Get Ready For The Ultimate #coloursplashafrika ✨\nHappening THIS COMING DECEMBER 2025💫💯 \nYou Can’t Afford To Miss Out On This One 🥳 \nGet Your Earlybird Tickets Now🕺🏾\n👇🏽👇🏽👇🏽 \nwww.https://tikohub.com/events/341 \n🎟️Limited Early bird Tickets Now At 499/- \n#coloursplashafrika\n#differntcolour1peoples\n#livelifeincolour
URL:https://kujivinjari.com/event/color-splash-afrika/
LOCATION:Mombasa Sports Club\, Momabasa\, Kenya
CATEGORIES:Events,Festival
ATTACH;FMTTYPE=image/jpeg:https://kujivinjari.com/wp-content/uploads/2025/10/colour-splash-afrika.jpg
END:VEVENT
END:VCALENDAR