BEGIN:VCALENDAR
VERSION:2.0
PRODID:-//kujivinjari.com - ECPv6.15.15//NONSGML v1.0//EN
CALSCALE:GREGORIAN
METHOD:PUBLISH
X-WR-CALNAME:kujivinjari.com
X-ORIGINAL-URL:https://kujivinjari.com
X-WR-CALDESC:Events for kujivinjari.com
REFRESH-INTERVAL;VALUE=DURATION:PT1H
X-Robots-Tag:noindex
X-PUBLISHED-TTL:PT1H
BEGIN:VTIMEZONE
TZID:Europe/Moscow
BEGIN:STANDARD
TZOFFSETFROM:+0300
TZOFFSETTO:+0300
TZNAME:MSK
DTSTART:20240101T000000
END:STANDARD
END:VTIMEZONE
BEGIN:VEVENT
DTSTART;TZID=Europe/Moscow:20251206T100000
DTEND;TZID=Europe/Moscow:20251206T180000
DTSTAMP:20260425T140428
CREATED:20251030T080113Z
LAST-MODIFIED:20251030T080113Z
UID:1389-1765015200-1765044000@kujivinjari.com
SUMMARY:FROM DREAMS TO LEGACY
DESCRIPTION:Join us as we celebrate a decade of creativity\, empowerment\, and growth at From Dreams to Legacy\, happening on Saturday\, December 6th\, 2025\, at the Sarakasi Dome\, Nairobi. \nThis milestone marks 10 incredible years of Young Teens in Talent Studios nurturing young creatives\, dancers\, and performers across Kenya — transforming dreams into opportunities and passion into purpose. \nUnder the theme “Dancing for a Dream\, Performing with a Purpose”\, this vibrant showcase brings together youth performers\, alumni\, mentors\, and supporters for a powerful day of inspiration\, art\, and giving back. \nThe celebration also serves as a fundraiser to help YTIT Studios expand\, rebrand\, and strengthen its legacy for the next generation of artists. \n🎭 Event Highlights:\n💃🏽 Dance & live performances by YTIT students and guest artists\n🌟 Stories of transformation & community impact\n🎤 Special appearances from creative industry leaders\n🎁 Fundraising auction & donation opportunities\n🤝 Networking & youth empowerment sessions \n🎟 Tickets (via Mookh): \n\nKids – KSh 200\nAdults – KSh 500\nVIP – KSh 2\,000\nGate – KSh 1\,000\n\n✨ 10 years. One vision. Endless impact.\nCome celebrate Kenya’s young creatives shaping the legacy of tomorrow. \n#FromDreamsToLegacy #YTITStudios #SarakasiDome #YouthEmpowerment #KenyaTalent #PerformingArtsKE #DanceForChange #CreativeKenya #MookhTickets
URL:https://kujivinjari.com/event/from-dreams-to-legacy-2/
LOCATION:Sarakari Dome\, NAIROBI\, Kenya
CATEGORIES:Art and culture,Events
ATTACH;FMTTYPE=image/jpeg:https://kujivinjari.com/wp-content/uploads/2025/10/From-dreams-to-legacy.jpg
END:VEVENT
END:VCALENDAR