BEGIN:VCALENDAR
VERSION:2.0
PRODID:-//kujivinjari.com - ECPv6.15.15//NONSGML v1.0//EN
CALSCALE:GREGORIAN
METHOD:PUBLISH
X-ORIGINAL-URL:https://kujivinjari.com
X-WR-CALDESC:Events for kujivinjari.com
REFRESH-INTERVAL;VALUE=DURATION:PT1H
X-Robots-Tag:noindex
X-PUBLISHED-TTL:PT1H
BEGIN:VTIMEZONE
TZID:Europe/Moscow
BEGIN:STANDARD
TZOFFSETFROM:+0300
TZOFFSETTO:+0300
TZNAME:MSK
DTSTART:20250101T000000
END:STANDARD
END:VTIMEZONE
BEGIN:VEVENT
DTSTART;TZID=Europe/Moscow:20260307T120000
DTEND;TZID=Europe/Moscow:20260307T230000
DTSTAMP:20260424T191515
CREATED:20260219T120756Z
LAST-MODIFIED:20260219T120756Z
UID:1966-1772884800-1772924400@kujivinjari.com
SUMMARY:iToka_thecrossing
DESCRIPTION:A new wave of expression is taking shape — and iToka: The Crossing invites a generation to reconnect with culture through art\, music\, and shared experiences. Set in the scenic outdoors of Eva’s Garden in Redhill\, this immersive event blends creativity\, conversation\, and vibrant energy into a full-day cultural journey. \nFrom live artistic showcases to music and interactive moments\, iToka celebrates a culture that is no longer passive but lived\, questioned\, and reimagined. Expect a curated crowd\, expressive performances\, and an atmosphere designed for connection and discovery. \n🎟 Ticket Options:• Early Bird — KES 2\,000• Advanced — KES 3\,000• Early Bird Group Tickets — KES 9\,000• Advanced Group Tickets — KES 14\,000 \nStep into the crossing — where art\, music\, and culture meet.
URL:https://kujivinjari.com/event/itoka-the-crossing-evas-garden-redhill-2026/
LOCATION:Eva’s Garden\, Redhill\, Nairobi\, Kenya
CATEGORIES:Art and culture,Events
ATTACH;FMTTYPE=image/jpeg:https://kujivinjari.com/wp-content/uploads/2026/02/ITOKA.jpg
END:VEVENT
BEGIN:VEVENT
DTSTART;TZID=Europe/Moscow:20260321T160000
DTEND;TZID=Europe/Moscow:20260321T220000
DTSTAMP:20260424T191515
CREATED:20260219T143135Z
LAST-MODIFIED:20260219T143135Z
UID:1991-1774108800-1774130400@kujivinjari.com
SUMMARY:Sage Connect II
DESCRIPTION:Creative energy takes centre stage as Sage Connect II brings together music\, art\, fashion\, and culture for an intimate evening designed to celebrate human expression. Hosted at Sauty Integrations HQ along Marula Lane\, this curated experience blends live sounds\, creative showcases\, and a vibrant community atmosphere. \nMore than just a music event\, Sage Connect invites guests to connect with the art around them — and with themselves. Expect a relaxed yet immersive environment where music lovers\, creatives\, and culture enthusiasts come together for an evening of discovery\, connection\, and authentic vibes. \n🎟 Ticket Options:• Early Bird — KES 1\,500• Angry Bird — KES 1\,800• Hungry Bird — KES 2\,000 \nStep into a space where music\, food\, fashion\, and art collide.
URL:https://kujivinjari.com/event/sage-connect-ii-sauty-integrations-nairobi-2026/
LOCATION:Sauty Integrations HQ\, 40A Marula Lane\, NAIROBI\, Kenya
CATEGORIES:Events,Music
ATTACH;FMTTYPE=image/jpeg:https://kujivinjari.com/wp-content/uploads/2026/02/Sage_Connect_2_Final_44yGPvZ.jpg
END:VEVENT
END:VCALENDAR