BEGIN:VCALENDAR
VERSION:2.0
PRODID:-//kujivinjari.com - ECPv6.15.15//NONSGML v1.0//EN
CALSCALE:GREGORIAN
METHOD:PUBLISH
X-WR-CALNAME:kujivinjari.com
X-ORIGINAL-URL:https://kujivinjari.com
X-WR-CALDESC:Events for kujivinjari.com
REFRESH-INTERVAL;VALUE=DURATION:PT1H
X-Robots-Tag:noindex
X-PUBLISHED-TTL:PT1H
BEGIN:VTIMEZONE
TZID:Europe/Moscow
BEGIN:STANDARD
TZOFFSETFROM:+0300
TZOFFSETTO:+0300
TZNAME:MSK
DTSTART:20250101T000000
END:STANDARD
END:VTIMEZONE
BEGIN:VEVENT
DTSTART;TZID=Europe/Moscow:20260523T120000
DTEND;TZID=Europe/Moscow:20260524T000000
DTSTAMP:20260425T220034
CREATED:20260417T072915Z
LAST-MODIFIED:20260417T072915Z
UID:2190-1779537600-1779580800@kujivinjari.com
SUMMARY:Park N Chill IV
DESCRIPTION:If your ideal vibe is nature\, good music\, and a chilled crowd away from the city chaos\, then Park N Chill IV is exactly your kind of plan. \nHappening on Saturday\, 23 May 2026 at Naiposha Gardens\, Tigoni\, this 4th edition brings back the perfect blend of relaxation\, connection\, and soft-life energy — all set against lush greenery and scenic views. \nThis isn’t a hectic party. It’s a slow-paced\, feel-good outdoor experience where you pull up\, unwind\, and let the day flow into the night. \n🌿 What to Expect:• A serene garden setting with beautiful views• Chill music & laid-back vibes• Perfect picnic-style atmosphere• Great for couples\, groups & solo chillers• A smooth transition from day vibes to night energy
URL:https://kujivinjari.com/event/park-n-chill-naiposha-gardens-2026/
LOCATION:Naiposha Gardens\, NAIROBI\, Kenya
CATEGORIES:Events
ATTACH;FMTTYPE=image/jpeg:https://kujivinjari.com/wp-content/uploads/2026/04/park-n-chill-4.jpg
END:VEVENT
END:VCALENDAR