BEGIN:VCALENDAR
VERSION:2.0
PRODID:-//kujivinjari.com - ECPv6.15.15//NONSGML v1.0//EN
CALSCALE:GREGORIAN
METHOD:PUBLISH
X-WR-CALNAME:kujivinjari.com
X-ORIGINAL-URL:https://kujivinjari.com
X-WR-CALDESC:Events for kujivinjari.com
REFRESH-INTERVAL;VALUE=DURATION:PT1H
X-Robots-Tag:noindex
X-PUBLISHED-TTL:PT1H
BEGIN:VTIMEZONE
TZID:Europe/Moscow
BEGIN:STANDARD
TZOFFSETFROM:+0300
TZOFFSETTO:+0300
TZNAME:MSK
DTSTART:20250101T000000
END:STANDARD
END:VTIMEZONE
BEGIN:VEVENT
DTSTART;TZID=Europe/Moscow:20260404T120000
DTEND;TZID=Europe/Moscow:20260405T030000
DTSTAMP:20260421T110914
CREATED:20260108T115219Z
LAST-MODIFIED:20260108T115219Z
UID:1774-1775304000-1775358000@kujivinjari.com
SUMMARY:Old School Bongo Concert – 7th Edition (Brunch Experience)
DESCRIPTION:The Old School Bongo Concert returns for its 7th Edition\, bringing timeless Bongo classics to the coast for a full-day Brunch-to-Night music experience. Set against a tropical beach backdrop\, this edition blends nostalgia\, rhythm\, and Kenyan classics into one unforgettable weekend. \nFrom midday grooves to late-night singalongs\, expect legendary old-school Bongo hits\, coastal vibes\, and an atmosphere built for lovers of classic East African music. Whether you’re here for the brunch energy\, sunset moments\, or the late-night crowd\, this is a musical journey across generations. \nLimited Phase 1 tickets are available. Secure yours early and be part of the ultimate old-school celebration by the ocean.
URL:https://kujivinjari.com/event/old-school-bongo-concert-7th-edition-brunch-experience/
LOCATION:Mombasa
CATEGORIES:Concert,Events
ATTACH;FMTTYPE=image/jpeg:https://kujivinjari.com/wp-content/uploads/2026/01/old-school-bongo-concert.jpeg
END:VEVENT
END:VCALENDAR