BEGIN:VCALENDAR
VERSION:2.0
PRODID:-//kujivinjari.com - ECPv6.15.15//NONSGML v1.0//EN
CALSCALE:GREGORIAN
METHOD:PUBLISH
X-WR-CALNAME:kujivinjari.com
X-ORIGINAL-URL:https://kujivinjari.com
X-WR-CALDESC:Events for kujivinjari.com
REFRESH-INTERVAL;VALUE=DURATION:PT1H
X-Robots-Tag:noindex
X-PUBLISHED-TTL:PT1H
BEGIN:VTIMEZONE
TZID:Europe/Moscow
BEGIN:STANDARD
TZOFFSETFROM:+0300
TZOFFSETTO:+0300
TZNAME:MSK
DTSTART:20250101T000000
END:STANDARD
END:VTIMEZONE
BEGIN:VEVENT
DTSTART;TZID=Europe/Moscow:20260305T140000
DTEND;TZID=Europe/Moscow:20260305T220000
DTSTAMP:20260420T042030
CREATED:20260219T075052Z
LAST-MODIFIED:20260219T075052Z
UID:1955-1772719200-1772748000@kujivinjari.com
SUMMARY:🥊 Fight Night — The Canopy Kisumu
DESCRIPTION:Get ready for an adrenaline-charged evening as Fight Night lands at The Canopy Kisumu\, bringing high-energy combat action and electric crowd vibes to the lakeside city. \nFrom intense face-offs to roaring arena moments\, this experience blends sport\, nightlife\, and entertainment into one unforgettable showcase. Whether you’re ringside in the Arena section or catching the action from the Terrace\, expect powerful matchups\, a charged atmosphere\, and nonstop excitement from start to finish. \nPerfect for fight fans\, thrill seekers\, and anyone looking for a bold mid-week experience in Kisumu — this is where energy meets competition. \nTickets\n\nTerrace (Non-Redeemable): KES 500\nArena (Redeemable): KES 1\,000\nVIP: KES 3\,000
URL:https://kujivinjari.com/event/%f0%9f%a5%8a-fight-night-the-canopy-kisumu/
LOCATION:The Canopy\, KISUMU\, Kenya
CATEGORIES:Events,sports
ATTACH;FMTTYPE=image/jpeg:https://kujivinjari.com/wp-content/uploads/2026/02/Fight-Night.jpg
END:VEVENT
END:VCALENDAR