BEGIN:VCALENDAR
VERSION:2.0
PRODID:-//kujivinjari.com - ECPv6.15.15//NONSGML v1.0//EN
CALSCALE:GREGORIAN
METHOD:PUBLISH
X-ORIGINAL-URL:https://kujivinjari.com
X-WR-CALDESC:Events for kujivinjari.com
REFRESH-INTERVAL;VALUE=DURATION:PT1H
X-Robots-Tag:noindex
X-PUBLISHED-TTL:PT1H
BEGIN:VTIMEZONE
TZID:Europe/Moscow
BEGIN:STANDARD
TZOFFSETFROM:+0300
TZOFFSETTO:+0300
TZNAME:MSK
DTSTART:20240101T000000
END:STANDARD
END:VTIMEZONE
BEGIN:VEVENT
DTSTART;TZID=Europe/Moscow:20251004T140000
DTEND;TZID=Europe/Moscow:20251005T060000
DTSTAMP:20260424T144512
CREATED:20250918T063850Z
LAST-MODIFIED:20250927T164338Z
UID:544-1759586400-1759644000@kujivinjari.com
SUMMARY:Millenials And Baddies
DESCRIPTION:Get ready for the ultimate Millennial’s & Baddies Experience happening at Kitengela T Point Arcade! 🎉 This is not just another event – it’s a whole vibe where fun\, music\, and great connections come alive.\nExpect a fun-filled day with:\n🎮 Loads of exciting games\n🍔 Delicious food & refreshing drinks\n🎧 Incredible DJs spinning everything from Oldskul\, Ragga\, RnB\, Local hits\, Trap\, HipHop\, Crunk\, to House music\n🤝 Amazing networking opportunities with dope people\nCome ready to jam\, vibe\, and make memories – this is where the Millennials meet the Baddies. All are welcome\, so pull up with your crew and let’s make it unforgettable! 🚀🔥
URL:https://kujivinjari.com/event/millenials-and-baddies/
LOCATION:T point arcade kitengela Kajiado\, KAJIADO\, Kenya
CATEGORIES:Events,Nightlife
ATTACH;FMTTYPE=image/jpeg:https://kujivinjari.com/wp-content/uploads/2025/09/millenials-and-baddies.jpg
END:VEVENT
END:VCALENDAR