BEGIN:VCALENDAR
VERSION:2.0
PRODID:-//kujivinjari.com - ECPv6.15.15//NONSGML v1.0//EN
CALSCALE:GREGORIAN
METHOD:PUBLISH
X-WR-CALNAME:kujivinjari.com
X-ORIGINAL-URL:https://kujivinjari.com
X-WR-CALDESC:Events for kujivinjari.com
REFRESH-INTERVAL;VALUE=DURATION:PT1H
X-Robots-Tag:noindex
X-PUBLISHED-TTL:PT1H
BEGIN:VTIMEZONE
TZID:Europe/Moscow
BEGIN:STANDARD
TZOFFSETFROM:+0300
TZOFFSETTO:+0300
TZNAME:MSK
DTSTART:20250101T000000
END:STANDARD
END:VTIMEZONE
BEGIN:VEVENT
DTSTART;TZID=Europe/Moscow:20260424T080000
DTEND;TZID=Europe/Moscow:20260424T210000
DTSTAMP:20260420T054513
CREATED:20260325T134259Z
LAST-MODIFIED:20260325T134259Z
UID:2105-1777017600-1777064400@kujivinjari.com
SUMMARY:Kip Keino Classic 2026
DESCRIPTION:Athletics fans are set for an electrifying evening as the Kip Keino Classic 2026 returns to Nairobi on Friday\, 24 April 2026 at the iconic Nyayo National Stadium. Part of the prestigious World Athletics Continental Tour Gold series\, the event will bring together elite international competitors and Kenya’s finest track and field stars for a high-intensity showcase of speed\, endurance\, and athletic excellence. \nRenowned for delivering thrilling performances and record-breaking moments\, the Kip Keino Classic has quickly become one of Africa’s premier athletics meetings. Spectators can expect a vibrant stadium atmosphere\, world-class competition across multiple disciplines\, and the unique pride of witnessing global champions compete on Kenyan soil. \nWhether you’re a lifelong athletics enthusiast or simply looking for an inspiring live sporting experience\, this event promises unforgettable action and national pride in full display. \n🎟 Tickets:Available via official Kip Keino Classic ticketing channels.
URL:https://kujivinjari.com/event/kip-keino-classic-2026-nairobi/
LOCATION:Nyayo Stadium\, Nairobi\, Kenya
CATEGORIES:Events,sports
ATTACH;FMTTYPE=image/jpeg:https://kujivinjari.com/wp-content/uploads/2026/03/kip-keino-classic.jpg
END:VEVENT
BEGIN:VEVENT
DTSTART;TZID=Europe/Moscow:20260425T120000
DTEND;TZID=Europe/Moscow:20260426T040000
DTSTAMP:20260420T054513
CREATED:20260408T145301Z
LAST-MODIFIED:20260408T145328Z
UID:2148-1777118400-1777176000@kujivinjari.com
SUMMARY:Costa World
DESCRIPTION:Get ready to step into a whole new universe — Costa World is here to deliver an all-access experience like no other. \nTaking over Stedmak Gardens on April 25\, 2026\, this high-energy event blends adrenaline\, entertainment\, and community into one unforgettable day-to-night experience. From thrilling rides to live performances and immersive activities\, Costa World is built for those who want it all. \n🎢 Whether you’re chasing the rush or just vibing with the crowd\, this is where fun meets energy at full throttle. \n✨ What to Expect:• Access to adrenaline-pumping rides• Live entertainment & interactive games• Exclusive activities & giveaways• A vibrant crowd and unforgettable atmosphere• Entry into the afterparty experience \n🎟 Ticket Options: \nALL ACCESS MADNESS – KES 3\,200• Full event access• Unlimited access to all 7 rides• Afterparty entry• All activities\, entertainment & giveaways \nTHRILLING THREE RIDES – Price as per release• Full event access• Access to 3 rides• Afterparty entry• All activities\, entertainment & giveaways \n⚠️ Note: Limited tickets available – secure yours early
URL:https://kujivinjari.com/event/costa-world-nairobi-2026/
LOCATION:Stedmak Gardens & Recreation Centre\, Nairobi\, Kenya
CATEGORIES:Events,Festival
ATTACH;FMTTYPE=image/jpeg:https://kujivinjari.com/wp-content/uploads/2026/04/costa-experience.jpg
END:VEVENT
BEGIN:VEVENT
DTSTART;TZID=Europe/Moscow:20260425T140000
DTEND;TZID=Europe/Moscow:20260426T030000
DTSTAMP:20260420T054513
CREATED:20260408T141338Z
LAST-MODIFIED:20260408T141338Z
UID:2144-1777125600-1777172400@kujivinjari.com
SUMMARY:Incredible & Friends 4.0
DESCRIPTION:The vibe is back\, bigger and better — Incredible & Friends 4.0 returns to deliver one of East Africa’s most anticipated lifestyle experiences. \nTaking over Kiambu Valley Gardens on Saturday\, 25 April 2026\, this edition brings together the perfect blend of music\, culture\, and elevated social energy. From millennial R&B and timeless old-school classics to contemporary African sounds\, this is a curated experience designed for those who appreciate good music and even better company. \nSet in a scenic outdoor space\, expect a day-to-night journey filled with rhythm\, connection\, and unforgettable moments. \n✨ What to Expect:• Smooth R&B and nostalgic throwbacks• Curated Afro sounds and modern hits• Stylish crowd & premium outdoor vibes• A seamless transition from day party to late-night energy \n🎟 Tickets:• 2nd Wave – KES 2\,500• Trio – KES 5\,000• Group of 5 – KES 9\,000• Group of 10 – KES 15\,000
URL:https://kujivinjari.com/event/incredible-friends-4-0/
LOCATION:Kiambu Valley Gardens\, Kiambu\, Kenya
CATEGORIES:Events,Festival
ATTACH;FMTTYPE=image/jpeg:https://kujivinjari.com/wp-content/uploads/2026/04/incredible-and-friends.jpg
END:VEVENT
END:VCALENDAR