BEGIN:VCALENDAR
VERSION:2.0
PRODID:-//kujivinjari.com - ECPv6.15.15//NONSGML v1.0//EN
CALSCALE:GREGORIAN
METHOD:PUBLISH
X-WR-CALNAME:kujivinjari.com
X-ORIGINAL-URL:https://kujivinjari.com
X-WR-CALDESC:Events for kujivinjari.com
REFRESH-INTERVAL;VALUE=DURATION:PT1H
X-Robots-Tag:noindex
X-PUBLISHED-TTL:PT1H
BEGIN:VTIMEZONE
TZID:Europe/Moscow
BEGIN:STANDARD
TZOFFSETFROM:+0300
TZOFFSETTO:+0300
TZNAME:MSK
DTSTART:20250101T000000
END:STANDARD
END:VTIMEZONE
BEGIN:VEVENT
DTSTART;TZID=Europe/Moscow:20260228T180000
DTEND;TZID=Europe/Moscow:20260301T060000
DTSTAMP:20260424T172634
CREATED:20260106T143816Z
LAST-MODIFIED:20260106T143816Z
UID:1764-1772301600-1772344800@kujivinjari.com
SUMMARY:Afro State 2.0: Boiler Room Experience
DESCRIPTION:Afro State 2.0 is not a party — it’s a cultural state of mind. \nThis edition returns with a raw Boiler Room–style setup\, placing DJs at the center of the crowd. No elevated stages. No barriers. Just bodies\, bass\, sweat\, and sound colliding in real time. \nExpect deep Afro grooves\, rolling log drums\, underground rhythms\, and a fashion-forward crowd that understands the culture. This is where movement becomes language and music becomes ritual. \nAfro State is for: \n\nLovers of underground Afro sounds\nThe fashion-forward & culture shapers\nPeople who come to feel\, not just attend\n\nCome dressed to express.Come ready to move.Enter the State. \nWhat to Expect\n\nBoiler Room–style DJ setup (center-stage energy)\nDeep Afro sounds & underground rhythms\nHigh-energy crowd interaction\nFashion\, culture & movement in one space\nNo barriers. No performance distance. Pure immersion\n\nTickets at theafrostate.hustlesasa.shop
URL:https://kujivinjari.com/event/afro-state-2-0-boiler-room-experience/
LOCATION:KODA\, Nairobi\, Kenya
CATEGORIES:Art and culture,Events,Fashion,Music
ATTACH;FMTTYPE=image/avif:https://kujivinjari.com/wp-content/uploads/2026/01/Afro-State-2.0.avif
END:VEVENT
END:VCALENDAR