BEGIN:VCALENDAR
VERSION:2.0
PRODID:-//kujivinjari.com - ECPv6.15.15//NONSGML v1.0//EN
CALSCALE:GREGORIAN
METHOD:PUBLISH
X-WR-CALNAME:kujivinjari.com
X-ORIGINAL-URL:https://kujivinjari.com
X-WR-CALDESC:Events for kujivinjari.com
REFRESH-INTERVAL;VALUE=DURATION:PT1H
X-Robots-Tag:noindex
X-PUBLISHED-TTL:PT1H
BEGIN:VTIMEZONE
TZID:Europe/Moscow
BEGIN:STANDARD
TZOFFSETFROM:+0300
TZOFFSETTO:+0300
TZNAME:MSK
DTSTART:20250101T000000
END:STANDARD
END:VTIMEZONE
BEGIN:VEVENT
DTSTART;TZID=Europe/Moscow:20260530T120000
DTEND;TZID=Europe/Moscow:20260531T010000
DTSTAMP:20260423T171546
CREATED:20260417T090355Z
LAST-MODIFIED:20260417T090355Z
UID:2196-1780142400-1780189200@kujivinjari.com
SUMMARY:Vibez & Notes Festival
DESCRIPTION:If you’re tired of the usual club chaos and want something more intentional\, more curated\, more grown\, this is your lane. \nVibez & Notes Festival is built around one idea: music should be felt\, not just heard. Set in the open air at Ngong Racecourse (Waterfront 2)\, this experience blends live performances\, premium social vibes\, and a beautifully curated outdoor setup. \nThis isn’t just an event — it’s a full-day-to-night journey. \n🌿 The ExperienceFrom afternoon chill to night-time energy\, the festival evolves with you:• Lounge-style outdoor setup (picnic meets premium social scene)• Dedicated chill zones\, food areas & performance stage• Sunset vibes transitioning into high-energy night sessions \n🎶 The SoundtrackExpect a refined mix of:• Neo-Soul & R&B• Afro-Fusion & Jazz• Acoustic live sessions• Deep House & chill electronic \nThis is for people who actually listen to music\, not just dance to it. \n🍔 Food & Drinks• Gourmet street food (shawarma\, wings\, sliders with a twist)• Signature cocktails & craft drinks• Mocktails & soft options for a lighter vibe \nEverything is designed to match the mood of the music. \n✨ Why You Go• Open-air freedom (no packed club stress)• Curated crowd (less chaos\, more vibe)• Real performances\, not just DJ noise• A proper blend of chill + energy \n🎟 Tickets:• Early Bird – KES 1\,500• Group of 3 – KES 4\,000• Group of 5 – KES 6\,500
URL:https://kujivinjari.com/event/vibez-and-notes-festival-nairobi-2026/
LOCATION:Waterfront Ngong racecourse
CATEGORIES:Events,Festival
ATTACH;FMTTYPE=image/jpeg:https://kujivinjari.com/wp-content/uploads/2026/04/vibez-and-notes-festival.jpg
END:VEVENT
BEGIN:VEVENT
DTSTART;TZID=Europe/Moscow:20260531T163000
DTEND;TZID=Europe/Moscow:20260601T000000
DTSTAMP:20260423T171546
CREATED:20260423T085353Z
LAST-MODIFIED:20260423T085353Z
UID:2225-1780245000-1780272000@kujivinjari.com
SUMMARY:AFRODELIC
DESCRIPTION:Afrobeats\, soul\, and global rhythm collide at AFRODELIC—a high-energy night curated for true music lovers and vibe chasers. \nSet at The Alchemist\, one of Nairobi’s most iconic nightlife spaces\, this experience brings together international flair and local excellence for a night that blends sound\, culture\, and pure energy. \n🌍 The Lineup✨ Chelsea Sloan (South Africa) – bringing smooth\, genre-bending sounds with international appeal✨ Azeezah Hashim (Kenya) – delivering powerful vocals and undeniable stage presence \n🎶 The SoundExpect a rich mix of:• Afrobeats & Afro-fusion• Soulful live elements• Dancefloor-ready rhythms• A crowd that actually understands the music \n🔥 The Experience• Electric atmosphere at The Alchemist• A curated crowd of music & culture lovers• Seamless transition from sunset vibes to late-night energy• Premium sound\, visuals\, and performance energy \nThis isn’t just another night out—it’s a full sensory experience built around African sound and identity. \n🎟 Tickets:• Early Bird – KES 2\,000• Pre-Sale – KES 2\,500• Door – KES 3\,000
URL:https://kujivinjari.com/event/afrodelic-nairobi-2026/
LOCATION:Alchemist\, NAIROBI WESTLANDS\, Kenya
CATEGORIES:Events,Nightlife
ATTACH;FMTTYPE=image/jpeg:https://kujivinjari.com/wp-content/uploads/2026/04/afrodelic.jpeg
END:VEVENT
END:VCALENDAR