BEGIN:VCALENDAR
VERSION:2.0
PRODID:-//kujivinjari.com - ECPv6.15.15//NONSGML v1.0//EN
CALSCALE:GREGORIAN
METHOD:PUBLISH
X-WR-CALNAME:kujivinjari.com
X-ORIGINAL-URL:https://kujivinjari.com
X-WR-CALDESC:Events for kujivinjari.com
REFRESH-INTERVAL;VALUE=DURATION:PT1H
X-Robots-Tag:noindex
X-PUBLISHED-TTL:PT1H
BEGIN:VTIMEZONE
TZID:Europe/Moscow
BEGIN:STANDARD
TZOFFSETFROM:+0300
TZOFFSETTO:+0300
TZNAME:MSK
DTSTART:20250101T000000
END:STANDARD
END:VTIMEZONE
BEGIN:VEVENT
DTSTART;TZID=Europe/Moscow:20260418T070000
DTEND;TZID=Europe/Moscow:20260419T180000
DTSTAMP:20260420T133733
CREATED:20260319T073545Z
LAST-MODIFIED:20260319T073545Z
UID:2084-1776495600-1776621600@kujivinjari.com
SUMMARY:RX-Fest April 2026
DESCRIPTION:Rev up your engines and brace yourself for an adrenaline-charged motorsport weekend as RX Fest takes over Kasarani Sports Stadium this April. Known as one of the most exciting rallycross celebrations on the local motorsport calendar\, the festival promises two full days of intense head-to-head racing\, roaring engines\, and electric crowd energy. \nMotorsport enthusiasts and families alike can look forward to a dynamic festival atmosphere featuring thrilling track battles\, fan engagement zones\, and interactive experiences. Beyond the racing action\, attendees will enjoy live DJ entertainment\, food and drinks vendors\, and dedicated family-friendly activity areas\, making it a well-rounded weekend outing for all ages. \nWhether you’re a die-hard rallycross fan or simply looking for a unique weekend experience in Nairobi\, RX Fest delivers speed\, spectacle\, and unforgettable moments on and off the track. \nGet ready for dust\, speed\, and nonstop action as rallycross takes centre stage in Nairobi.
URL:https://kujivinjari.com/event/rx-fest-rallycross-kasarani-april-2026/
LOCATION:Kasarani Stadium\, Nairobi\, Kenya
CATEGORIES:Events,sports
ATTACH;FMTTYPE=image/png:https://kujivinjari.com/wp-content/uploads/2026/03/rx-fest-april-2026.png
END:VEVENT
BEGIN:VEVENT
DTSTART;TZID=Europe/Moscow:20260418T140000
DTEND;TZID=Europe/Moscow:20260418T180000
DTSTAMP:20260420T133733
CREATED:20260325T083425Z
LAST-MODIFIED:20260325T083425Z
UID:2101-1776520800-1776535200@kujivinjari.com
SUMMARY:Outliers & The Social Club
DESCRIPTION:Hip-hop lovers in Nairobi are in for a laid-back yet energetic musical experience as Outliers teams up with The Social Club to present The Social Club Hip-Hop Afternoon on Saturday\, 18 April 2026 at Suave Kitchen & Social Club\, Westlands. \nThis daytime session is designed for fans who appreciate authentic hip-hop culture — from timeless classics to the latest releases shaping the global sound. With X The Deejay on the decks\, attendees can expect a carefully curated soundtrack of head-nodding beats\, lyrical nostalgia\, and contemporary hits in a relaxed social atmosphere. \nPerfect for those looking to unwind with good music\, great company\, and vibrant city energy\, the event offers a refreshing alternative to late-night partying. Whether you’re a long-time hip-hop enthusiast or simply exploring the genre’s rich culture\, this afternoon gathering promises smooth vibes and memorable moments.
URL:https://kujivinjari.com/event/social-club-hiphop-afternoon-nairobi/
LOCATION:Suave Kitchen & Social Club\, 1 Crossway\, Westlands\, Nairobi\, Kenya
CATEGORIES:Events,Music
ATTACH;FMTTYPE=image/jpeg:https://kujivinjari.com/wp-content/uploads/2026/03/Outliers-The-Social-Club.jpeg
END:VEVENT
BEGIN:VEVENT
DTSTART;TZID=Europe/Moscow:20260418T140000
DTEND;TZID=Europe/Moscow:20260419T020000
DTSTAMP:20260420T133733
CREATED:20260306T125305Z
LAST-MODIFIED:20260306T125305Z
UID:2034-1776520800-1776564000@kujivinjari.com
SUMMARY:🎶 Sip\, Link & Vibe: Millennials Edition
DESCRIPTION:Get ready for a nostalgic trip back to the sounds that defined a generation at Sip\, Link & Vibe: Millennials Edition. Taking place at The Beer District in Westlands\, this throwback party celebrates the music\, culture\, and unforgettable vibes that shaped the millennial era. \nFrom classic Kenyan hits and Bongo anthems to smooth 2000s R&B slow jams\, Afro grooves\, and dancehall favourites\, the night promises nonstop sing-alongs and feel-good moments on the dancefloor. It’s a celebration for the generation that grew up on Bluetooth music transfers\, mixtape CDs\, and late-night radio sessions. \nWith sets by DJ Candy\, DJ Rajyz\, and DJ Teddie\, and hosted by Kisomo and Ngenesi\, the event promises an electrifying mix of music\, nostalgia\, and vibrant nightlife energy. \nExpect pure throwback magic\, good vibes\, and a dancefloor full of memories.
URL:https://kujivinjari.com/event/sip-link-and-vibe-millennials-edition-westlands-2026/
LOCATION:254 Beer District\, Nairobi\, Kenya
CATEGORIES:Events,Nightlife
ATTACH;FMTTYPE=image/jpeg:https://kujivinjari.com/wp-content/uploads/2026/03/Sip_link__vibe_with_hosts_1_n4PlElw.jpg
END:VEVENT
BEGIN:VEVENT
DTSTART;TZID=Europe/Moscow:20260418T150000
DTEND;TZID=Europe/Moscow:20260418T220000
DTSTAMP:20260420T133733
CREATED:20260317T145402Z
LAST-MODIFIED:20260317T145402Z
UID:2077-1776524400-1776549600@kujivinjari.com
SUMMARY:WILD WEST
DESCRIPTION:Saddle up for a unique nightlife experience as Wild West\, a western-themed showdown powered by AFTRDARK\, rides into The Padel Point at Ngong Racecourse this April. Inspired by classic frontier energy and modern party culture\, the event promises an exciting evening of music\, style\, and immersive entertainment. \nGuests are encouraged to embrace the theme with cowboy hats\, boots\, and western-inspired outfits as the venue transforms into a lively frontier-style gathering spot. Expect high-energy DJ sets\, vibrant crowds\, and a playful atmosphere where the spirit of the Wild West meets Nairobi’s dynamic nightlife scene. \nWhether you’re coming for the music\, the themed experience\, or simply a fresh Saturday outing with friends\, Wild West promises a fun-filled evening packed with bold vibes and unforgettable moments. \nDust off your boots\, gather your crew\, and ride into the sunset for a party that brings a little frontier flair to Nairobi.
URL:https://kujivinjari.com/event/wild-west-party-ngong-racecourse-april-2026/
LOCATION:The Padel Point\, Ngong Racecourse\, Kenya
CATEGORIES:Events
ATTACH;FMTTYPE=image/jpeg:https://kujivinjari.com/wp-content/uploads/2026/03/wild-west-scaled.jpeg
END:VEVENT
END:VCALENDAR